BEGIN:VCALENDAR
VERSION:2.0
CALSCALE:GREGORIAN
METHOD:PUBLISH
PRODID://HAIN//1413242
BEGIN:VEVENT
DTSTAMP:20260422T053751
VTIMEZONE:America/New_York
DTSTART:20260221T160000Z
DTEND:20260221T190000Z
UID:1413242
SUMMARY:Brunch at 1845 Tap House
LOCATION:1845 Tap House, 45721 US Hwy. 27, Davenport, FL
DESCRIPTION:Brunch at 1845 Tap House\n\n02/21/26 11:00 AM EST\n - 02/21/26 02:00 PM EST\Details:\nJoin 1845 Tap House for Brunch this Saturday! \n\nSaturday, February 21st\n1845 Tap House, 45721 Hwy. 27, Davenport, FL\n11 a.m. - 2 p.m.\n\nBrunch, Endless Mimosas - Bloody Marys, Live Music with Ryan McVeigh!\n\nMessage them on Facebook or call 863-424-1845 for more info.\Location:\n1845 Tap House\n45721 US Hwy. 27\nDavenport, FL
X-ALT-DESC;FMTTYPE=text/html:Brunch at 1845 Tap House<br /><br />02/21/26 11:00 AM EST - 02/21/26 02:00 PM EST<br />Details:<br />Join <a attributionsrc="/privacy_sandbox/comet/register/source/?xt=AZaFuq34Y49sUkZGLKADN5PHnDa2ifgBdsGFAis95Sa3WbBLbSgS_KUhAmia9M8VpjR_bVH01Ja8JzoI-oDMwRNod0Gu2sb20-DkUkhAsPy6pArVcPw3jNZGgDKhrPr44CPi2H3H4zhfIMI58z6Css84vswP5ZpQVQxXng1wxN9aSQwm5N6oiR-s86gOUFhtf6HoLllyKqaHXzXp7-ri-Lf8_N2_x66468l6fATM08oIXQhdM_zGWJGg5JrlAyU08pp0xUxwjKunira1XYtPL_-LES89pBhzUNTaAI9PNbd3eZPxXIr3TJVlhjLeWGxPqzWfDIrw-BqvFru60s0QL9SdURTOlDqmJhvU5VIXhuxrMP4g0EiOQ0zaFdBnVB7bBYJjpa-KpxhNwlM6hQt3jfILacvQzpC4HW-VC1eFoQj6SAUUJz0FKZVk6CRox4C4Dg9ZsWitxZItnozBxNQeHq-6p1kxMt8KYxN0kMbYOZBzQvIfte3jGUygQ-C20LLBZgGmJmcKuPHLsIx3fI7aeZFNVHWpPa0OAoCM0-UvbeZK_chB7DueAKUXfgGcEnsH4Mbe-2IM1dXOz8ULq16j7COxiESYW2lmA3Uf-KyeCUFo7k1grhWmEUfP9D4HIfyj14l-EY7PHqI8zMx_7km-V7WzJDxJQN2d5mpLoRs-7zYZfDapHVgVDClTmgUWwTyDCut8eJOSuxVkNlfOFtcMUC7VTqOclX653KTb-FXqr0Ec2yofkVG9yL56jBO7V6S1IA7uw18wcWbVXhC3MG9ostUdcfRI6VOkFOLrITg2ZP90x4bZ4uZRY4xB4bCL2pETsQfjeejBZcghA-Q_hXydVwLAhuQzl2C9dCk1OXfI8NZA9aREoJX4Wak6QphkQwyyr15QENi4ViklTFDCmj1x7aoH7uGwma9njcD1ZJYq5IQEz5seXk8Dtll5-Wr7a1XSkbjiYvErdoCWMIAebdkIgmMtGRy85M3729YtksLzxt6Wi3ZYxAxiypi9tj3I8flufUWwq_z4NHKozTcdRtgwwzAF9gYqzkuq9vrzKOkukB8qffHRTmdVYCsWY_g-CeBPBbny76igmDkPGl8rVS77RueXU8Q1vZFcU6yFOjU3E7tEBRiJIELM_BldmTc_3ScJdyaOBT4BFNQkfLBnv8o5aYKWIIOho_19VXXJjsJeWOLZ5gYOM8K7wvyeiXke7pkwr3iuGgpzj_QODU6IreXOmVEA0aKCoc5scNMJunwJkIj5t6udHbdoE1xLaOwflIAzaxfZ-oExHTOGxbRto7Kq_zCCYYoVonf_xPA7JwE8KyReRMdWzkQGtir-h48QE0dO743oLmWj0bOUd83r4TFiAg0ZxjIwFngobuzBBoqEq5yXC6j1B09chs7Q_nK43cBS5WnJSjT51o75hR492MUVQOp12RxX2Xej1Nybn15gP4k0Y5h2A_ta8qMb_-IqZtM7lUYgdWiNI5ee5nSEjkbJvG8d0aRJzhfINJRItzDMK-tZn_6ZBkUhWVDFxhZKR8Sil3qWw1zAWbMcWF4DbIijJakx5E3SP7dy9M9-yH9-h_zy9G9Jeav3S6OTw88EGGCMXxbQP68xwVb6yaI-uCbh3kUoq9LeqFZFhBmPfP5Qqxsf9ir3WDfSlvgCal-rH6Rl7DQ" href="https://www.facebook.com/1845TapHouse?__cft__[0]=AZaceMDkn0-2ddmfJXPYlKIH6rIvsyy4veVodzDxPye2rbirza63fcziO8IfkZdP8sbhknySsa8QXH_FujF4vdUwwD3Km1GRItzJfvU_yznaTtstngFIP02Tbq45N4bHpl0wy_G07OckphNKCMF0KhQlicX5lDGVNPXoXrcm7NTgVKmgNv49100McThfRRwMSNo&amp;__tn__=-]K-R" role="link" tabindex="0">1845 Tap House</a> for Brunch this Saturday!&nbsp;<br />
<br />
Saturday, February 21st<br />
1845 Tap House, 45721 Hwy. 27, Davenport, FL<br />
11 a.m. - 2 p.m.<br />
<br />
Brunch, Endless Mimosas - Bloody Marys, Live Music with Ryan McVeigh!<br />
<br />
Message them on Facebook or call 863-424-1845 for more info.<br />Location:<br />1845 Tap House<br />45721 US Hwy. 27<br />Davenport, FL 
PRIORITY:3
TRANSP:TRANSPARENT
BEGIN:VALARM
TRIGGER:-PT5M
ACTION:DISPLAY
DESCRIPTION:Reminder
END:VALARM
END:VEVENT
END:VCALENDAR
