BEGIN:VCALENDAR
VERSION:2.0
CALSCALE:GREGORIAN
METHOD:PUBLISH
PRODID://JCOC//1413429
BEGIN:VEVENT
DTSTAMP:20260424T123238
VTIMEZONE:America/Chicago
DTSTART:20260218T173000Z
DTEND:20260218T190000Z
UID:1413429
SUMMARY:Member Luncheon - February 2026
LOCATION:The Ranch, 10596 S. Elm Street, Jenks, OK, 74037
DESCRIPTION:Member Luncheon - February 2026\n\n02/18/26 11:30 AM CST\n - 02/18/26 01:00 PM CST\Description:\nJoin us for our February Luncheon on Wednesday, February 18th at the Ranch! Doors will open at 11:30 AM, with the program beginning around noon. We’re excited to welcome Oklahoma Lieutenant Governor Matt Pinnell as our featured speaker.\n\nElected as the 17th Lieutenant Governor of Oklahoma in 2018, Pinnell serves as President of the Oklahoma State Senate and sits on several constitutional boards and commissions. He currently chairs the Oklahoma Tourism Commission and the Route 66 Centennial Commission, with a strong focus on workforce and economic development.\n\n \n\nSponsored by Brent Hagar - State Farm Insurance Agent and Red River Payroll.\n\nCatering provided by Waterfront Grill.  \n\nClick to View: Liability Waiver\n\Location:\nThe Ranch\n10596 S. Elm Street\nJenks, OK 74037
X-ALT-DESC;FMTTYPE=text/html:Member Luncheon - February 2026<br /><br />02/18/26 11:30 AM CST - 02/18/26 01:00 PM CST<br />Description:<br /><p>Join us for our February Luncheon on Wednesday, February 18th at the Ranch! Doors will open at 11:30 AM, with the program beginning around noon. We&rsquo;re excited to welcome Oklahoma Lieutenant Governor Matt Pinnell as our featured speaker.</p>

<p>Elected as the 17th Lieutenant Governor of Oklahoma in 2018, Pinnell serves as President of the Oklahoma State Senate and sits on several constitutional boards and commissions. He currently chairs the Oklahoma Tourism Commission and the Route 66 Centennial Commission, with a strong focus on workforce and economic development.</p>

<p>&nbsp;</p>

<p><strong>Sponsored by Brent Hagar - State Farm Insurance Agent and Red River Payroll.</strong></p>

<p>Catering provided by Waterfront Grill.&nbsp;&nbsp;<br />
<br />
<strong>Click to View:&nbsp;<a href="https://www.dropbox.com/scl/fi/xh0okrwobjv6y4if070ca/jenks-chamber-of-commerce-liability-waiver.pdf?rlkey=wj6uvimc4q2zlk53to4b1rgxe&amp;st=72p7pdtm&amp;dl=0">Liability Waiver</a></strong></p>
<br />Location:<br />The Ranch<br />10596 S. Elm Street<br />Jenks, OK 74037
PRIORITY:3
TRANSP:TRANSPARENT
BEGIN:VALARM
TRIGGER:-PT5M
ACTION:DISPLAY
DESCRIPTION:Reminder
END:VALARM
END:VEVENT
END:VCALENDAR
