BEGIN:VCALENDAR
VERSION:2.0
CALSCALE:GREGORIAN
METHOD:PUBLISH
PRODID://KACC//1413449
BEGIN:VEVENT
DTSTAMP:20260420T092134
VTIMEZONE:America/Chicago
DTSTART:20260328T160000Z
DTEND:20260328T180000Z
UID:1413449
SUMMARY:Kirksville Chapter Order of Eastern Star #184 - 11th Annual Princess Tea Party on Saturday March 28th 11am to 1pm
LOCATION:Kirksville Masonic Temple, 217 E Harrison St. , Kirksville, MO, 63501
DESCRIPTION:Kirksville Chapter Order of Eastern Star #184 - 11th Annual Princess Tea Party on Saturday March 28th 11am to 1pm\n\n03/28/26 11:00 AM CST\n - 03/28/26 01:00 PM CST\Description:\nKirksville Chapter Order of Eastern Star #184 is hosting their 11th Annual Princess Tea Party on March 28th, 2026, from 11am to 1pm. This year’s theme is “Celebrating Our Founding Daughters and Sons” in celebration of our nation’s 250th birthday.\n\nIt will be held at the Kirksville Masonic Temple, 217 E Harrison St., Kirksville MO.\n\nThere will be crafts, games, food, and drink. Cost is $5 per person. Come out for a nice time with the kids. For more information, call 660-341-4042.\n\nPresented by Kirksville Chapter #184, Order of the Eastern Star\nAssisted by: Sigma Kappa Sorority, Truman State University\Details:\nKirksville Chapter Order of Eastern Star #184 is hosting their 11th Annual Princess Tea Party on March 28th, 2026, from 11am to 1pm. This year’s theme is “Celebrating Our Founding Daughters and Sons” in celebration of our nation’s 250th birthday.\n\nIt will be held at the Kirksville Masonic Temple, 217 E Harrison St., Kirksville MO.\n\nThere will be crafts, games, food, and drink. Cost is $5 per person. Come out for a nice time with the kids. For more information, call 660-341-4042.\n\nPresented by Kirksville Chapter #184, Order of the Eastern Star\nAssisted by: Sigma Kappa Sorority, Truman State University\Location:\nKirksville Masonic Temple\n217 E Harrison St. \nKirksville, MO 63501
X-ALT-DESC;FMTTYPE=text/html:Kirksville Chapter Order of Eastern Star #184 - 11th Annual Princess Tea Party on Saturday March 28th 11am to 1pm<br /><br />03/28/26 11:00 AM CST - 03/28/26 01:00 PM CST<br />Description:<br />Kirksville Chapter Order of Eastern Star #184 is hosting their 11th Annual Princess Tea Party on March 28th, 2026, from 11am to 1pm. This year&rsquo;s theme is &ldquo;Celebrating Our Founding Daughters and Sons&rdquo; in celebration of our nation&rsquo;s 250th birthday.<br />
<br />
It will be held at the Kirksville Masonic Temple, 217 E Harrison St., Kirksville MO.<br />
<br />
There will be crafts, games, food, and drink. Cost is $5 per person. Come out for a nice time with the kids. For more information, call 660-341-4042.<br />
<br />
<strong>Presented by Kirksville Chapter #184, Order of the Eastern Star</strong><br />
<strong>Assisted by: Sigma Kappa Sorority, Truman State University</strong><br />Details:<br />Kirksville Chapter Order of Eastern Star #184 is hosting their 11th Annual Princess Tea Party on March 28th, 2026, from 11am to 1pm. This year&rsquo;s theme is &ldquo;Celebrating Our Founding Daughters and Sons&rdquo; in celebration of our nation&rsquo;s 250th birthday.<br />
<br />
It will be held at the Kirksville Masonic Temple, 217 E Harrison St., Kirksville MO.<br />
<br />
There will be crafts, games, food, and drink. Cost is $5 per person. Come out for a nice time with the kids. For more information, call 660-341-4042.<br />
<br />
<strong>Presented by Kirksville Chapter #184, Order of the Eastern Star</strong><br />
<strong>Assisted by: Sigma Kappa Sorority, Truman State University</strong><br />Location:<br />Kirksville Masonic Temple<br />217 E Harrison St. <br />Kirksville, MO 63501
PRIORITY:3
TRANSP:TRANSPARENT
BEGIN:VALARM
TRIGGER:-PT5M
ACTION:DISPLAY
DESCRIPTION:Reminder
END:VALARM
END:VEVENT
END:VCALENDAR
