BEGIN:VCALENDAR
VERSION:2.0
CALSCALE:GREGORIAN
METHOD:PUBLISH
PRODID://WGSR//1413570
BEGIN:VEVENT
DTSTAMP:20260422T204710
VTIMEZONE:America/Chicago
DTSTART:20260314T230000Z
DTEND:20260315T030000Z
UID:1413570
SUMMARY:Member Event: Stray Paws Rescue Gala
LOCATION:Sheraton Westport Plaza Hotel â€“ Versailles Ballroom , 191 Westport Plaza Drive, St. Louis, MO, 63146
DESCRIPTION:Member Event: Stray Paws Rescue Gala\n\n03/14/26 06:00 PM CST\n - 03/14/26 10:00 PM CST\Description:\nStray Paws Rescue "These are the Days" Gala Hosted by Summit Jewelers\nhttps://givebutter.com/c/thesearethedaysgala\Details:\n“These Are the Days”\nENJOY:\nSilent Auction Featuring Unique Items & Experiences\n6:00 p.m. Cocktail Hour with Open Bar\n7:00 p.m. Elegant Dinner\n8:00 p.m. Start of the Live Auction with Exclusive Packages\nTICKETS:\n$200.00 Per Person or $1,800.00 for a Reserved Table of Ten\nEvery day at Stray Paws Rescue, lives are on the line. A senior dog left behind, a puppy born in a ditch, a cat abandoned with nowhere to go — their stories could end in silence. But because of supporters like you, those stories turn into second chances.\n\n“These Are the Days” isn’t just the name of our gala — it’s a promise.\nâœ¨ These are the days when animals once forgotten find hope.\nâœ¨ These are the days when the community comes together to say every life matters.\nâœ¨ These are the days we’ll never forget — because every rescue, every adoption, and every happy ending is worth celebrating.\n\nYour ticket to the gala is more than a seat at an elegant dinner. It’s food for the hungry, medicine for the sick, shelter for the scared, and love for the lost. It’s the reason Stray Paws can continue rescuing, rehabilitating, and rehoming.\n\nOn March 14, join us in honoring every life saved — and in fighting for the ones still waiting. Because together, we make sure these are the days that matter.\n\Location:\nSheraton Westport Plaza Hotel â€“ Versailles Ballroom \n191 Westport Plaza Drive\nSt. Louis, MO 63146
X-ALT-DESC;FMTTYPE=text/html:Member Event: Stray Paws Rescue Gala<br /><br />03/14/26 06:00 PM CST - 03/14/26 10:00 PM CST<br />Description:<br />Stray Paws Rescue &quot;These are the Days&quot; Gala Hosted by Summit Jewelers<br />
https://givebutter.com/c/thesearethedaysgala<br />Details:<br /><h2><strong>&ldquo;These Are the Days&rdquo;</strong></h2>
<strong>ENJOY:</strong><br />
Silent Auction Featuring Unique Items &amp; Experiences<br />
6:00 p.m. Cocktail Hour with Open Bar<br />
7:00 p.m. Elegant Dinner<br />
8:00 p.m. Start of the Live Auction with Exclusive Packages<br />
<strong>TICKETS:</strong><br />
$200.00 Per Person or $1,800.00 for a Reserved Table of Ten
<p>Every day at Stray Paws Rescue, lives are on the line. A senior dog left behind, a puppy born in a ditch, a cat abandoned with nowhere to go &mdash; their stories could end in silence. But because of supporters like you, those stories turn into second chances.</p>

<p>&ldquo;These Are the Days&rdquo; isn&rsquo;t just the name of our gala &mdash; it&rsquo;s a promise.<br />
âœ¨ These are the days when animals once forgotten find hope.<br />
âœ¨ These are the days when the community comes together to say every life matters.<br />
âœ¨ These are the days we&rsquo;ll never forget &mdash; because every rescue, every adoption, and every happy ending is worth celebrating.</p>

<p>Your ticket to the gala is more than a seat at an elegant dinner. It&rsquo;s food for the hungry, medicine for the sick, shelter for the scared, and love for the lost. It&rsquo;s the reason Stray Paws can continue rescuing, rehabilitating, and rehoming.</p>

<p>On March 14, join us in honoring every life saved &mdash; and in fighting for the ones still waiting. Because together, we make sure&nbsp;<em>these are the days</em>&nbsp;that matter.</p>
<br />Location:<br />Sheraton Westport Plaza Hotel â€“ Versailles Ballroom <br />191 Westport Plaza Drive<br />St. Louis, MO 63146
PRIORITY:3
TRANSP:TRANSPARENT
BEGIN:VALARM
TRIGGER:-PT5M
ACTION:DISPLAY
DESCRIPTION:Reminder
END:VALARM
END:VEVENT
END:VCALENDAR
