BEGIN:VCALENDAR
VERSION:2.0
CALSCALE:GREGORIAN
METHOD:PUBLISH
PRODID://WGSR//1413571
BEGIN:VEVENT
DTSTAMP:20260422T221024
VTIMEZONE:America/Chicago
DTSTART:20260412T223000Z
DTEND:20260413T013000Z
UID:1413571
SUMMARY:Member Event: Angel Gala
LOCATION:Old Warson Country Club, 9841 Old Warson Rd., St. Louis, MO, 63124
DESCRIPTION:Member Event: Angel Gala\n\n04/12/26 05:30 PM CST\n - 04/12/26 08:30 PM CST\Description:\n\nAngel Gala 2026\n\nSunday, April 12\n\nCocktail Reception 5:30 pm\nDinner 6:00 pm\n$200 per person\n\nOld Warson Country Club\n9841 Old Warson Rd, St. Louis, MO 63124\n\nMembership Courtesy of Darryl and Ellen Ross\n\n\n\nHonoring\n\nJEAN FLANAGAN\n\n\n\nGuest Speaker\n\nDR. SAM GOODWIN - “Captive in Syria: A Test of Faith”\nAuthor of Saving Sam\n\nAs one of the few people to have visited all 193 countries, Sam’s travels took a dramatic turn in 2019 when he was detained in Syria. His memoir, Saving Sam, shares that experience and the perspective he gained from it.\n\n\n\nMaster of Ceremonies\n\nRENE KNOTT\n\nCocktail Attire – Jackets Required\nComplimentary Valet Parking\n\nTo register or for more information, contact Kimberly at 314.736.1544 or kjohnson@ourladysinn.org\n\n\n \n\Details:\n\nTo register or for more information, contact Kimberly at 314.736.1544 or kjohnson@ourladysinn.org\nTickets - $200 each\nSponsorship opportunities available.\n\n \n\Location:\nOld Warson Country Club\n9841 Old Warson Rd.\nSt. Louis, MO 63124
X-ALT-DESC;FMTTYPE=text/html:Member Event: Angel Gala<br /><br />04/12/26 05:30 PM CST - 04/12/26 08:30 PM CST<br />Description:<br /><section itemscope="itemscope" itemtype="https://schema.org/CreativeWork">
<h1>Angel Gala 2026</h1>

<h3>Sunday, April 12</h3>

<p>Cocktail Reception 5:30 pm<br />
Dinner 6:00 pm<br />
$200 per person</p>

<p><strong>Old Warson Country Club</strong><br />
9841 Old Warson Rd, St. Louis, MO 63124</p>

<p><em>Membership Courtesy of Darryl and Ellen Ross</em></p>
</section>

<section itemscope="itemscope" itemtype="https://schema.org/CreativeWork">
<h3>Honoring</h3>

<p>JEAN FLANAGAN</p>
</section>

<section itemscope="itemscope" itemtype="https://schema.org/CreativeWork">
<h3>Guest Speaker</h3>

<p>DR. SAM GOODWIN -&nbsp;<em>&ldquo;Captive in Syria: A Test of Faith&rdquo;</em><br />
Author of&nbsp;<em>Saving Sam</em></p>

<p>As one of the few people to have visited all 193 countries, Sam&rsquo;s travels took a dramatic turn in 2019 when he was detained in Syria. His memoir,&nbsp;<em>Saving Sam</em>, shares that experience and the perspective he gained from it<em>.</em></p>
</section>

<section itemscope="itemscope" itemtype="https://schema.org/CreativeWork">
<h3>Master of Ceremonies</h3>

<p>RENE KNOTT</p>

<p>Cocktail Attire &ndash; Jackets Required<br />
Complimentary Valet Parking</p>

<p>To register or for more information, contact Kimberly at&nbsp;<a href="tel:314-736-1544">314.736.1544&nbsp;</a>or&nbsp;<a href="mailto:kjohnson@ourladysinn.org">kjohnson@ourladysinn.org</a></p>
</section>

<section itemscope="itemscope" itemtype="https://schema.org/CreativeWork">&nbsp;</section>
<br />Details:<br /><section itemscope="itemscope" itemtype="https://schema.org/CreativeWork">
<h1><span style="font-size:14px">To register or for more information, contact Kimberly at&nbsp;<a href="tel:314-736-1544">314.736.1544&nbsp;</a>or&nbsp;<a href="mailto:kjohnson@ourladysinn.org">kjohnson@ourladysinn.org</a></span></h1>
Tickets - $200 each<br />
Sponsorship opportunities&nbsp;available.</section>

<section itemscope="itemscope" itemtype="https://schema.org/CreativeWork">&nbsp;</section>
<br />Location:<br />Old Warson Country Club<br />9841 Old Warson Rd.<br />St. Louis, MO 63124
PRIORITY:3
TRANSP:TRANSPARENT
BEGIN:VALARM
TRIGGER:-PT5M
ACTION:DISPLAY
DESCRIPTION:Reminder
END:VALARM
END:VEVENT
END:VCALENDAR
