BEGIN:VCALENDAR
VERSION:2.0
CALSCALE:GREGORIAN
METHOD:PUBLISH
PRODID://JCOC//1413585
BEGIN:VEVENT
DTSTAMP:20260424T172611
VTIMEZONE:America/Chicago
DTSTART:20261031T210000Z
DTEND:20261031T230000Z
UID:1413585
SUMMARY:Trick-or-Treat 2026
LOCATION:Jenks Riverwalk, 300 Riverwalk Terrace, Jenks, OK, 74037
DESCRIPTION:Trick-or-Treat 2026\n\n10/31/26 04:00 PM CST\n - 10/31/26 06:00 PM CST\Description:\n\nSponsored by CommunityCare, Jenks Riverwalk, and Brent Hagar State Farm Insurance\n\nThe Jenks Chamber of Commerce will host its annual Trick-or-Treat event on Halloween (Oct. 31), from 4-6 p.m. This family-friendly Halloween celebration is a hub of ghosts, goblins and superheroes. This event will feature decorated tables offering treats. The community is invited to attend in costume.  \n\nTrick or Treat is a family-friendly event where vendors hand out candy, coupons, or promotional items to trick-or-treaters. It’s a fun way to promote your business and connect with the community, with prizes for the best costumes and booth decorations.\n\nPlease note: Vendors are not allowed to sell any items at this event.\n\nClick to View: Weather and Cancellation Policy\nClick to View: Liability Waiver\n \Location:\nJenks Riverwalk\n300 Riverwalk Terrace\nJenks, OK 74037
X-ALT-DESC;FMTTYPE=text/html:Trick-or-Treat 2026<br /><br />10/31/26 04:00 PM CST - 10/31/26 06:00 PM CST<br />Description:<br /><br />
<strong>Sponsored by CommunityCare, Jenks Riverwalk, and Brent Hagar State Farm Insurance</strong><br />
<br />
The Jenks Chamber of Commerce will host its annual Trick-or-Treat event on Halloween (Oct. 31), from 4-6 p.m.&nbsp;This family-friendly Halloween celebration is a hub of ghosts, goblins and superheroes. This event will feature decorated tables offering treats. The community is invited to attend in costume. &nbsp;<br />
<br />
Trick or Treat is a family-friendly event where vendors hand out candy, coupons, or promotional items to trick-or-treaters. It&rsquo;s a fun way to promote your business and connect with the community, with prizes for the best costumes and booth decorations.<br />
<br />
Please note: Vendors are not allowed to sell any items at this event.<br />
<br />
<strong>Click to View:&nbsp;<a href="https://www.dropbox.com/scl/fi/g1rvpfaurdpxkz2bfmfqa/Jenks-Chamber-of-Commerce-Weather-and-Cancellation-Policy.pdf?rlkey=aui790nq5f37yexdychk7mhw3&amp;st=vcq00763&amp;dl=0">Weather and Cancellation Policy</a></strong><br />
<strong>Click to View:&nbsp;<a href="https://www.dropbox.com/scl/fi/xh0okrwobjv6y4if070ca/jenks-chamber-of-commerce-liability-waiver.pdf?rlkey=wj6uvimc4q2zlk53to4b1rgxe&amp;st=72p7pdtm&amp;dl=0">Liability Waiver</a></strong><br />
&nbsp;<br />Location:<br />Jenks Riverwalk<br />300 Riverwalk Terrace<br />Jenks, OK 74037
PRIORITY:3
TRANSP:TRANSPARENT
BEGIN:VALARM
TRIGGER:-PT5M
ACTION:DISPLAY
DESCRIPTION:Reminder
END:VALARM
END:VEVENT
END:VCALENDAR
