BEGIN:VCALENDAR
VERSION:2.0
CALSCALE:GREGORIAN
METHOD:PUBLISH
PRODID://HAIN//1413635
BEGIN:VEVENT
DTSTAMP:20260422T041606
VTIMEZONE:America/New_York
DTSTART:20260331T120000Z
DTEND:20260331T150000Z
UID:1413635
SUMMARY:Kersey Funeral Home Community Outreach Expo 2026
LOCATION:Auburndale Civic Center, 115 West Park Street, Auburndale, FL
DESCRIPTION:Kersey Funeral Home Community Outreach Expo 2026\n\n03/31/26 08:00 AM EST\n - 03/31/26 11:00 AM EST\Details:\nKersey Funeral Home Community Outreach Expo 2026 - Tuesday, March 31st - 8 a.m. - 11 a.m.  Auburndale Civic Center, 115 West Park Street, Auburndale, FL - Where Business, Health & Community Come Together!   Free Breakfast; Giveaways & raffles; 80+ Local vendors & resources; Free And Open To The Public.  Click HERE from the flyer.  \Location:\nAuburndale Civic Center\n115 West Park Street\nAuburndale, FL
X-ALT-DESC;FMTTYPE=text/html:Kersey Funeral Home Community Outreach Expo 2026<br /><br />03/31/26 08:00 AM EST - 03/31/26 11:00 AM EST<br />Details:<br />Kersey Funeral Home Community Outreach Expo 2026 - Tuesday, March 31st - 8 a.m. - 11 a.m.&nbsp; Auburndale Civic Center, 115 West Park Street, Auburndale, FL - Where Business, Health &amp; Community Come Together!&nbsp; &nbsp;Free Breakfast;&nbsp;Giveaways &amp; raffles;&nbsp;80+ Local vendors &amp; resources;&nbsp;Free And Open To The Public.&nbsp; Click <a href="https://www.chamberorganizer.com/hainescitynepolkcounty/docs/Expo_2026_FINAL_1_page-0001.jpg"><u><strong>HERE </strong></u></a>from the flyer.&nbsp;&nbsp;<br />Location:<br />Auburndale Civic Center<br />115 West Park Street<br />Auburndale, FL 
PRIORITY:3
TRANSP:TRANSPARENT
BEGIN:VALARM
TRIGGER:-PT5M
ACTION:DISPLAY
DESCRIPTION:Reminder
END:VALARM
END:VEVENT
END:VCALENDAR
