BEGIN:VCALENDAR
VERSION:2.0
CALSCALE:GREGORIAN
METHOD:PUBLISH
PRODID://KING//1414040
BEGIN:VEVENT
DTSTAMP:20260422T053751
VTIMEZONE:America/Denver
DTSTART:20260410T150000Z
DTEND:20260411T230000Z
UID:1414040
SUMMARY:Las Vegas FRC Robotics Regional Competition
LOCATION:UNLV THOMAS & MACK CENTER, UNLV - Thomas & Mack Center 4505 S. Maryland Parkway , LAS VEGAS, NV
DESCRIPTION:Las Vegas FRC Robotics Regional Competition\n\n04/10/26 09:00 AM MST\n - 04/11/26 05:00 PM MST\Description:\nKingman FIRST Robotics Team 60 will be participating in a FIRST Robotics Regional at UNLV Thomas & Mack Center in Las Vegas, NV.  This is a FREE event and would love to have our local community support.  You can travel to be part of the competition and watch it live or if you want to stream it it will be available on YouTube via FIRSTRoboticsCompetition. Friday competition begins at 9:00 AM and goes until 5:00 PM with qualifiers throughout the day. Saturday begins at 9AM and runs until around 11:30 AM with qualifiers and then SemiFinals are from 12PM to 4PM finishing with awards at the end of each day.http://www.firstnevada.org\Details:\nEvent is FREE. Event runs Friday and Saturday with qualifier matches to be held throughout all day Friday and into Saturday morning.  Semi-finals and Finals take place Saturday afternoon with awards to follow after each day of competition matches. \nIf you want to enter the "Pit" area (where the team and robots are working from you MUST have closed toed shoes and wear safety glasses. Look for our group in the stands (Blue and Gold shirts) and we can accommodate you with safety glasses. \Location:\nUNLV THOMAS & MACK CENTER\nUNLV - Thomas & Mack Center 4505 S. Maryland Parkway \nLAS VEGAS, NV
X-ALT-DESC;FMTTYPE=text/html:Las Vegas FRC Robotics Regional Competition<br /><br />04/10/26 09:00 AM MST - 04/11/26 05:00 PM MST<br />Description:<br />Kingman FIRST Robotics Team 60 will be participating in a FIRST Robotics Regional at UNLV Thomas &amp; Mack Center in Las Vegas, NV.&nbsp; This is a FREE event and would love to have our local community support.&nbsp; You can travel to be part of the competition and watch it live or if you want to stream it it will be available on YouTube via FIRSTRoboticsCompetition. Friday competition begins at 9:00 AM and goes until 5:00 PM with qualifiers throughout the day. Saturday begins at 9AM and runs until around 11:30 AM with qualifiers and then SemiFinals are from 12PM to 4PM finishing with awards at the end of each day.<a href="http://www.firstnevada.org">http://www.firstnevada.org</a><br />Details:<br />Event is FREE. Event runs Friday and Saturday with qualifier matches to be held throughout all day Friday and into Saturday morning.&nbsp; Semi-finals and Finals take place Saturday afternoon with awards to follow after each day of competition matches.&nbsp;<br />
If you want to enter the &quot;Pit&quot; area (where the team and robots are working from you MUST have closed toed shoes and wear safety glasses. Look for our group in the stands (Blue and Gold shirts) and we can accommodate you with safety glasses.&nbsp;<br />Location:<br />UNLV THOMAS & MACK CENTER<br />UNLV - Thomas & Mack Center 4505 S. Maryland Parkway <br />LAS VEGAS, NV 
PRIORITY:3
TRANSP:TRANSPARENT
BEGIN:VALARM
TRIGGER:-PT5M
ACTION:DISPLAY
DESCRIPTION:Reminder
END:VALARM
END:VEVENT
END:VCALENDAR
