BEGIN:VCALENDAR
VERSION:2.0
CALSCALE:GREGORIAN
METHOD:PUBLISH
PRODID://KING//1414062
BEGIN:VEVENT
DTSTAMP:20260422T081131
VTIMEZONE:America/Denver
DTSTART:20260307T180000Z
DTEND:20260309T020000Z
UID:1414062
SUMMARY:Frozen Yogurt Island Fundraiser Days
LOCATION:Frozen Yogurt Island , 3880 Stockton Hill Rd Ste 104, Kingman, AZ, 86409
DESCRIPTION:Frozen Yogurt Island Fundraiser Days\n\n03/07/26 11:00 AM MST\n - 03/08/26 08:00 PM MST\Description:\nHelp sponsor Kingman FIRST Robotics Team 60 as they prepare to compete at 2 FRC (FIRST Robotics Competitions).  The team is preparing to travel to Flagstaff AZ and compete at the FRC Regional being held at NAU Skydome on March 14-15 as well as their second regional being held at UNLV Thomas & Mack Center April 10-11.  All proceeds raised go to help the team travel to these events.  Come and enjoy some delicious frozen yogurt while supporting local youth on their STEM journey.\Details:\nCome in and enjoy some delicious frozen yogurt and help support the local youth involved in FRC Kingman FIRST Robotics Team 60. Proceeds go to assist the team travel and compete at two upcoming regional FRC events.\Location:\nFrozen Yogurt Island \n3880 Stockton Hill Rd Ste 104\nKingman, AZ 86409
X-ALT-DESC;FMTTYPE=text/html:Frozen Yogurt Island Fundraiser Days<br /><br />03/07/26 11:00 AM MST - 03/08/26 08:00 PM MST<br />Description:<br />Help sponsor Kingman FIRST Robotics Team 60 as they prepare to compete at 2 FRC (FIRST Robotics Competitions).&nbsp; The team is preparing to travel to Flagstaff AZ and compete at the FRC Regional being held at NAU Skydome on March 14-15 as well as their second regional being held at UNLV Thomas &amp; Mack Center April 10-11.&nbsp; All proceeds raised go to help the team travel to these events.&nbsp; Come and enjoy some delicious frozen yogurt while supporting local youth on their STEM journey.<br />Details:<br />Come in and enjoy some delicious frozen yogurt and help support the local youth involved in FRC Kingman FIRST Robotics Team 60. Proceeds go to assist the team travel and compete at two upcoming regional FRC events.<br />Location:<br />Frozen Yogurt Island <br />3880 Stockton Hill Rd Ste 104<br />Kingman, AZ 86409
PRIORITY:3
TRANSP:TRANSPARENT
BEGIN:VALARM
TRIGGER:-PT5M
ACTION:DISPLAY
DESCRIPTION:Reminder
END:VALARM
END:VEVENT
END:VCALENDAR
