BEGIN:VCALENDAR
VERSION:2.0
CALSCALE:GREGORIAN
METHOD:PUBLISH
PRODID://KACC//1414804
BEGIN:VEVENT
DTSTAMP:20260420T092206
VTIMEZONE:America/Chicago
DTSTART:20260321T210000Z
DTEND:20260321T230000Z
UID:1414804
SUMMARY:The Salt River Band
LOCATION:Gary Cunningham Event Center , 202 E Moore St, La Plata , MO, 63549
DESCRIPTION:The Salt River Band\n\n03/21/26 04:00 PM CST\n - 03/21/26 06:00 PM CST\Description:\nJoin us for an evening of live music and community fun at the Salt River Band Fundraiser! Enjoy great entertainment while supporting a meaningful local cause. The night will also feature an exciting raffle, dinner opportunities, and more—there’s something for everyone!\n\Details:\nEvent Details\nJoin us for a fun-filled evening featuring live music by the Salt River Band, all in support of a great local cause. This fundraiser is an opportunity to enjoy a night out while giving back to the community.\n Raffle Highlights:\nGun raffle with tickets available for purchase\n\n	Dinner giveaway to Pear Tree Restaurant\n	Two meat bundles generously provided by Hy-Vee\n\n Ticket Information:\n\n\n	Raffle tickets are available for purchase only at:\n\n	\n		TNT Guns (2815 North Baltimore)\n	\n	\n	Event admission tickets will be sold at the door only\n\n Special Thanks:\nWe extend our appreciation to TNT Guns for their partnership and support in making this event possible.\n Additional Information:\n\n\n	You do not need to be present to win\n	All raffle items will be awarded the night of the event\n	Please follow all applicable laws and requirements for raffle items\n\nCome out, bring your friends, and enjoy an evening of music, prizes, and community impact!\n \Location:\nGary Cunningham Event Center \n202 E Moore St\nLa Plata , MO 63549
X-ALT-DESC;FMTTYPE=text/html:The Salt River Band<br /><br />03/21/26 04:00 PM CST - 03/21/26 06:00 PM CST<br />Description:<br /><p data-end="679" data-start="410">Join us for an evening of live music and community fun at the Salt River Band Fundraiser! Enjoy great entertainment while supporting a meaningful local cause. The night will also feature an exciting raffle, dinner opportunities, and more&mdash;there&rsquo;s something for everyone!</p>
<br />Details:<br /><strong>Event Details</strong><br />
Join us for a fun-filled evening featuring live music by the Salt River Band, all in support of a great local cause. This fundraiser is an opportunity to enjoy a night out while giving back to the community.<br />
<strong>&nbsp;Raffle Highlights:<br />
Gun raffle with tickets available for purchase</strong>
<ul>
	<li>Dinner giveaway to Pear Tree Restaurant</li>
	<li>Two meat bundles generously provided by Hy-Vee</li>
</ul>
<strong>&nbsp;Ticket Information:</strong>

<ul>
	<li><strong>Raffle tickets</strong> are available for purchase <strong>only at:</strong>

	<ul>
		<li>TNT Guns (2815 North Baltimore)</li>
	</ul>
	</li>
	<li><strong>Event admission tickets</strong> will be <strong>sold at the door only</strong></li>
</ul>
<strong>&nbsp;Special Thanks:</strong><br />
We extend our appreciation to TNT Guns for their partnership and support in making this event possible.<br />
<strong>&nbsp;Additional Information:</strong>

<ul>
	<li>You do not need to be present to win</li>
	<li>All raffle items will be awarded the night of the event</li>
	<li>Please follow all applicable laws and requirements for raffle items</li>
</ul>
Come out, bring your friends, and enjoy an evening of music, prizes, and community impact!<br />
&nbsp;<br />Location:<br />Gary Cunningham Event Center <br />202 E Moore St<br />La Plata , MO 63549
PRIORITY:3
TRANSP:TRANSPARENT
BEGIN:VALARM
TRIGGER:-PT5M
ACTION:DISPLAY
DESCRIPTION:Reminder
END:VALARM
END:VEVENT
END:VCALENDAR
