BEGIN:VCALENDAR
VERSION:2.0
CALSCALE:GREGORIAN
METHOD:PUBLISH
PRODID://JCOC//1414842
BEGIN:VEVENT
DTSTAMP:20260424T123214
VTIMEZONE:America/Chicago
DTSTART:20260227T180000Z
DTEND:20260227T190000Z
UID:1414842
SUMMARY:Legislative Lunch February 2026
LOCATION:Jenks Chamber of Commerce (The Ranch), 10596 S. Elm St., Jenks, OK, 74037
DESCRIPTION:Legislative Lunch February 2026\n\n02/27/26 12:00 PM CST\n - 02/27/26 01:00 PM CST\Description:\nSponsored by Greater Tulsa Association of Realtors\n\nStay informed on key developments at the State Capitol that impact our community and businesses while building valuable relationships with local lawmakers.\n\nCatering provided by Billy Sims BBQ\n\nClick to View: Liability Waiver\n \Location:\nJenks Chamber of Commerce (The Ranch)\n10596 S. Elm St.\nJenks, OK 74037
X-ALT-DESC;FMTTYPE=text/html:Legislative Lunch February 2026<br /><br />02/27/26 12:00 PM CST - 02/27/26 01:00 PM CST<br />Description:<br /><strong>Sponsored by Greater Tulsa Association of Realtors</strong><br />
<br />
Stay informed on key developments at the State Capitol that impact our community and businesses while building valuable relationships with local lawmakers.<br />
<br />
Catering provided by Billy Sims BBQ<br />
<br />
<strong>Click to View:&nbsp;<a href="https://www.dropbox.com/scl/fi/xh0okrwobjv6y4if070ca/jenks-chamber-of-commerce-liability-waiver.pdf?rlkey=wj6uvimc4q2zlk53to4b1rgxe&amp;st=72p7pdtm&amp;dl=0">Liability Waiver</a></strong><br />
&nbsp;<br />Location:<br />Jenks Chamber of Commerce (The Ranch)<br />10596 S. Elm St.<br />Jenks, OK 74037
PRIORITY:3
TRANSP:TRANSPARENT
BEGIN:VALARM
TRIGGER:-PT5M
ACTION:DISPLAY
DESCRIPTION:Reminder
END:VALARM
END:VEVENT
END:VCALENDAR
