BEGIN:VCALENDAR
VERSION:2.0
CALSCALE:GREGORIAN
METHOD:PUBLISH
PRODID://JCOC//1414904
BEGIN:VEVENT
DTSTAMP:20260424T123215
VTIMEZONE:America/Chicago
DTSTART:20260225T200000Z
DTEND:20260225T210000Z
UID:1414904
SUMMARY:Ribbon Cutting: Revive Jenks Nutrition
LOCATION:, 525 W Main Street, Jenks, OK, 74037
DESCRIPTION:Ribbon Cutting: Revive Jenks Nutrition\n\n02/25/26 02:00 PM CST\n - 02/25/26 03:00 PM CST\Description:\nJoin us as we celebrate a brand new Main Street business, Revive Jenks Nutrition.  Located at 525 W Main Street, Revive serves the Jenks community  with energizing teas, protein shakes, and all the good vibes.  Check out all they have to offer!  \Location:\n\n525 W Main Street\nJenks, OK 74037
X-ALT-DESC;FMTTYPE=text/html:Ribbon Cutting: Revive Jenks Nutrition<br /><br />02/25/26 02:00 PM CST - 02/25/26 03:00 PM CST<br />Description:<br />Join us as we celebrate a brand new Main Street business, Revive Jenks Nutrition. &nbsp;Located at 525 W Main Street, Revive serves the Jenks community&nbsp;&nbsp;with energizing teas, protein shakes, and all the good vibes. &nbsp;Check out all they have to offer! &nbsp;<br />Location:<br /><br />525 W Main Street<br />Jenks, OK 74037
PRIORITY:3
TRANSP:TRANSPARENT
BEGIN:VALARM
TRIGGER:-PT5M
ACTION:DISPLAY
DESCRIPTION:Reminder
END:VALARM
END:VEVENT
END:VCALENDAR
