BEGIN:VCALENDAR
VERSION:2.0
CALSCALE:GREGORIAN
METHOD:PUBLISH
PRODID://KING//1414914
BEGIN:VEVENT
DTSTAMP:20260422T053745
VTIMEZONE:America/Denver
DTSTART:20260326T000000Z
DTEND:20260327T013000Z
UID:1414914
SUMMARY:Culinary Skills Class
LOCATION:The University of Arizona - Mohave County Cooperative Extension Office, 101 East Beale Street, Kingman, AZ, 86401
DESCRIPTION:Culinary Skills Class\n\n03/25/26 06:00 PM MST\n - 03/26/26 07:30 PM MST\Description:\nKnife Skills Masterclass with Executive Chef Michael Gaul\n\nSharpen your culinary confidence! Join Executive Chef Michael Gaul for a hands-on, two-day knife skills workshop designed to elevate your cooking and transform the way you work in the kitchen.\n\Details:\nJoin Mohave County Cooperative Extension Knife Skills Masterclass with Executive Chef Michael Gaul.\n\nClass Dates:  March 25th & 26th\n\n                        April 22nd & 23rd\n\nClass Time:   6:00 pm - 7:30 pm\n\n\nLocation: Mohave County Cooperative Extension Office\n\n                101 East Beale Street\n\n                Kingman, AZ 86401                                                                           \n\nKnife Skills Masterclass with Executive Chef Michael Gaul\n\nSharpen your culinary confidence! Join Executive Chef Michael Gaul for a hands-on, two-day knife skills workshop designed to elevate your cooking and transform the way you work in the kitchen.\n\nThis class will meet for two, one-and-a half-hour sessions, giving you plenty of guided practice while fitting easily into a busy schedule.\n\nIn this immersive class, you will:\n\n•    Improve your knife control and efficiency\n\n•    Master essential culinary knife cuts used by professional chefs\n\n•    Learn proper knife handling for safety and precision\n\n•    Practice sharpening techniques to keep your knives in top condition\n\n\nBy the end of the course, you'll be one step closer to creating impressive, evenly cooked, beautifully prepared meals.\n\n\nBonus: You’ll put your new skills to use by preparing vegetable soup and French onion soup during class.\n\n\nPerfect for beginners, home cooks, and anyone looking to refine their culinary technique.\n\n\nClasses cost $50.00 per person, per class.\n\n\nRegistration will only be final after we have received payment. You will be directed to the payment link as soon as you submit your registration form. Make sure to register early as the classes are limited to 12 people per class!\n\Location:\nThe University of Arizona - Mohave County Cooperative Extension Office\n101 East Beale Street\nKingman, AZ 86401
X-ALT-DESC;FMTTYPE=text/html:Culinary Skills Class<br /><br />03/25/26 06:00 PM MST - 03/26/26 07:30 PM MST<br />Description:<br /><p><strong>Knife Skills Masterclass with Executive Chef Michael Gaul</strong></p>

<p>Sharpen your culinary confidence! Join Executive Chef Michael Gaul for a hands-on, two-day knife skills workshop designed to elevate your cooking and transform the way you work in the kitchen.</p>
<br />Details:<br /><p>Join Mohave County Cooperative Extension Knife Skills Masterclass with Executive Chef Michael Gaul.</p>

<p>Class Dates:&nbsp;&nbsp;March 25th &amp; 26th</p>

<p>&nbsp;&nbsp;&nbsp;&nbsp;&nbsp;&nbsp;&nbsp;&nbsp;&nbsp;&nbsp;&nbsp;&nbsp;&nbsp;&nbsp;&nbsp;&nbsp;&nbsp;&nbsp;&nbsp;&nbsp;&nbsp;&nbsp;&nbsp;&nbsp;April 22nd &amp; 23rd</p>

<p>Class Time:&nbsp;&nbsp;&nbsp;6:00 pm - 7:30 pm</p>

<p><br />
Location: Mohave County Cooperative Extension Office</p>

<p>&nbsp;&nbsp;&nbsp;&nbsp;&nbsp;&nbsp;&nbsp;&nbsp;&nbsp;&nbsp;&nbsp;&nbsp;&nbsp;&nbsp;&nbsp;&nbsp;101 East Beale Street</p>

<p>&nbsp;&nbsp;&nbsp;&nbsp;&nbsp;&nbsp;&nbsp;&nbsp;&nbsp;&nbsp;&nbsp;&nbsp;&nbsp;&nbsp;&nbsp;&nbsp;Kingman, AZ 86401&nbsp;&nbsp;&nbsp;&nbsp;&nbsp;&nbsp;&nbsp;&nbsp;&nbsp;&nbsp;&nbsp;&nbsp;&nbsp;&nbsp;&nbsp;&nbsp;&nbsp;&nbsp;&nbsp;&nbsp;&nbsp;&nbsp;&nbsp;&nbsp;&nbsp;&nbsp;&nbsp;&nbsp;&nbsp;&nbsp;&nbsp;&nbsp;&nbsp;&nbsp;&nbsp;&nbsp;&nbsp;&nbsp;&nbsp;&nbsp;&nbsp;&nbsp;&nbsp;&nbsp;&nbsp;&nbsp;&nbsp;&nbsp;&nbsp;&nbsp;&nbsp;&nbsp;&nbsp;&nbsp;&nbsp;&nbsp;&nbsp;&nbsp;&nbsp;&nbsp;&nbsp;&nbsp;&nbsp;&nbsp;&nbsp;&nbsp;&nbsp;&nbsp;&nbsp;&nbsp;&nbsp;&nbsp;&nbsp;&nbsp;&nbsp;</p>

<p><strong>Knife Skills Masterclass with Executive Chef Michael Gaul</strong></p>

<p>Sharpen your culinary confidence! Join Executive Chef Michael Gaul for a hands-on, two-day knife skills workshop designed to elevate your cooking and transform the way you work in the kitchen.</p>

<p>This class will meet for two, one-and-a half-hour sessions, giving you plenty of guided practice while fitting easily into a busy schedule.</p>

<p><strong>In this immersive class, you will:</strong></p>

<p>&bull;&nbsp;&nbsp;&nbsp;&nbsp;Improve your knife control and efficiency</p>

<p>&bull;&nbsp;&nbsp;&nbsp;&nbsp;Master essential culinary knife cuts used by professional chefs</p>

<p>&bull;&nbsp;&nbsp;&nbsp;&nbsp;Learn proper knife handling for safety and precision</p>

<p>&bull;&nbsp;&nbsp;&nbsp;&nbsp;Practice sharpening techniques to keep your knives in top condition</p>

<p><br />
By the end of the course, you'll be one step closer to creating impressive, evenly cooked, beautifully prepared meals.</p>

<p><br />
<strong>Bonus: </strong>You&rsquo;ll put your new skills to use by preparing vegetable soup and French onion soup during class.</p>

<p><br />
Perfect for beginners, home cooks, and anyone looking to refine their culinary technique.</p>

<p><br />
Classes cost $50.00 per person, per class.</p>

<p><br />
Registration will only be final after we have received payment. You will be directed to the payment link as soon as you submit your registration form. Make sure to register early as the classes are limited to 12 people per class!</p>
<br />Location:<br />The University of Arizona - Mohave County Cooperative Extension Office<br />101 East Beale Street<br />Kingman, AZ 86401
PRIORITY:3
TRANSP:TRANSPARENT
BEGIN:VALARM
TRIGGER:-PT5M
ACTION:DISPLAY
DESCRIPTION:Reminder
END:VALARM
END:VEVENT
END:VCALENDAR
