BEGIN:VCALENDAR
VERSION:2.0
CALSCALE:GREGORIAN
METHOD:PUBLISH
PRODID://HAIN//1415002
BEGIN:VEVENT
DTSTAMP:20260422T041605
VTIMEZONE:America/New_York
DTSTART:20260321T130000Z
DTEND:20260321T183000Z
UID:1415002
SUMMARY:Women With a Purpose Ladies Luncheon Cruise
LOCATION:Depart from Trinity Church, 2795 North 10th Street, Haines City, FL, 33844
DESCRIPTION:Women With a Purpose Ladies Luncheon Cruise\n\n03/21/26 09:00 AM EST\n - 03/21/26 02:30 PM EST\Details:\nTrinity Church's Women with a Purpose invites you to a Ladies Luncheon Cruise!  Saturday, March 21st, depart from Trinity Church at 9 a.m., brunch, drinks, gratuity & more.  $85 per person.  Purchase tickets by scanning the QR Code on the flyer:  Click HERE\Location:\nDepart from Trinity Church\n2795 North 10th Street\nHaines City, FL 33844
X-ALT-DESC;FMTTYPE=text/html:Women With a Purpose Ladies Luncheon Cruise<br /><br />03/21/26 09:00 AM EST - 03/21/26 02:30 PM EST<br />Details:<br />Trinity Church's Women with a Purpose invites you to a Ladies Luncheon Cruise!&nbsp; Saturday, March 21st, depart from Trinity Church at 9 a.m., brunch, drinks, gratuity &amp; more.&nbsp; $85 per person.&nbsp; Purchase tickets by scanning the QR Code on the flyer:&nbsp; <a href="https://www.chamberorganizer.com/hainescitynepolkcounty/docs/ladies_luncheon_twc.JPEG"><u><strong>Click HERE</strong></u></a><br />Location:<br />Depart from Trinity Church<br />2795 North 10th Street<br />Haines City, FL 33844
PRIORITY:3
TRANSP:TRANSPARENT
BEGIN:VALARM
TRIGGER:-PT5M
ACTION:DISPLAY
DESCRIPTION:Reminder
END:VALARM
END:VEVENT
END:VCALENDAR
