BEGIN:VCALENDAR
VERSION:2.0
CALSCALE:GREGORIAN
METHOD:PUBLISH
PRODID://PLYC//1415006
BEGIN:VEVENT
DTSTAMP:20260424T084644
VTIMEZONE:America/New_York
DTSTART:20260418T170000Z
DTEND:20260418T180000Z
UID:1415006
SUMMARY:Marshall County's America 250 Cemetery Tour
LOCATION:New Oak Hill Cemetery, 1300 Chester St., Plymouth, IN, 46563
DESCRIPTION:Marshall County's America 250 Cemetery Tour\n\n04/18/26 01:00 PM EST\n - 04/18/26 02:00 PM EST\Description:\nThis event is sponsored by Marshall County's America 250 and will highlight several historic grave sites at the Oak Hill Cemetery. Local High School Speech and Debate students will narrate while dressed in historic attire to highlight these individuals involved in the early formation of our country. \Details:\nThe event is free to the public!\Location:\nNew Oak Hill Cemetery\n1300 Chester St.\nPlymouth, IN 46563
X-ALT-DESC;FMTTYPE=text/html:Marshall County's America 250 Cemetery Tour<br /><br />04/18/26 01:00 PM EST - 04/18/26 02:00 PM EST<br />Description:<br />This event is sponsored by&nbsp;Marshall County's America 250 and will highlight several historic grave sites at the Oak Hill Cemetery. Local High School Speech and Debate students will narrate while dressed in historic attire to highlight these individuals involved in the early formation of our country.&nbsp;<br />Details:<br />The event is free to the public!<br />Location:<br />New Oak Hill Cemetery<br />1300 Chester St.<br />Plymouth, IN 46563
PRIORITY:3
TRANSP:TRANSPARENT
BEGIN:VALARM
TRIGGER:-PT5M
ACTION:DISPLAY
DESCRIPTION:Reminder
END:VALARM
END:VEVENT
END:VCALENDAR
