BEGIN:VCALENDAR
VERSION:2.0
CALSCALE:GREGORIAN
METHOD:PUBLISH
PRODID://HAIN//1415020
BEGIN:VEVENT
DTSTAMP:20260422T042354
VTIMEZONE:America/New_York
DTSTART:20260316T220000Z
DTEND:20260317T000000Z
UID:1415020
SUMMARY:Candidate Forum for the City of Haines City
LOCATION:City of Haines City Commission Chambers, 620 E. Main St., Haines City, FL, 33844
DESCRIPTION:Candidate Forum for the City of Haines City\n\n03/16/26 06:00 PM EST\n - 03/16/26 08:00 PM EST\Details:\nJoin us for a Candidate Forum the City of Haines City Commission Seat 2 - Monday, March 16th, 6 - 8 p.m. in the Commissioner Chambers of Haines City City Hall, 620 E Main Street, Haines City, FL\n\nHear from the Candidates:  Seat 2:  Elyci Gonzalez, Jayne Hall, Lekia Johnson, Catalina Murillo, Horace L. West\n\nClick HERE for the flyer and more info.  \Location:\nCity of Haines City Commission Chambers\n620 E. Main St.\nHaines City, FL 33844
X-ALT-DESC;FMTTYPE=text/html:Candidate Forum for the City of Haines City<br /><br />03/16/26 06:00 PM EST - 03/16/26 08:00 PM EST<br />Details:<br />Join us for a Candidate Forum the City of Haines City Commission Seat 2 - Monday, March 16th, 6 - 8 p.m. in the Commissioner Chambers of Haines City&nbsp;City Hall, 620 E Main Street, Haines City, FL<br />
<br />
Hear from the Candidates:&nbsp; Seat 2:&nbsp; Elyci Gonzalez, Jayne Hall, Lekia Johnson, Catalina Murillo, Horace L. West<br />
<br />
Click <a href="https://www.chamberorganizer.com/hainescitynepolkcounty/docs/2026_CityTown_Candidate_Forum_flyers.pdf"><u><strong>HERE&nbsp;</strong></u></a>for the flyer and more info.&nbsp;&nbsp;<br />Location:<br />City of Haines City Commission Chambers<br />620 E. Main St.<br />Haines City, FL 33844
PRIORITY:3
TRANSP:TRANSPARENT
BEGIN:VALARM
TRIGGER:-PT5M
ACTION:DISPLAY
DESCRIPTION:Reminder
END:VALARM
END:VEVENT
END:VCALENDAR
