BEGIN:VCALENDAR
VERSION:2.0
CALSCALE:GREGORIAN
METHOD:PUBLISH
PRODID://AFFT//1415058
BEGIN:VEVENT
DTSTAMP:20260423T073520
VTIMEZONE:America/Chicago
DTSTART:20260328T150000Z
DTEND:20260328T180000Z
UID:1415058
SUMMARY:Bunny at the Barracks!
LOCATION:Jefferson Barracks Historic Site, 345 North Road, Lemay, MO, 63125
DESCRIPTION:Bunny at the Barracks!\n\n03/28/26 10:00 AM CST\n - 03/28/26 01:00 PM CST\Description:\nRegistration for Bunny at the Barracks opens this Saturday!\nHop into the fun by registering here: https://tinyurl.com/BatB26\nThis festive event is perfect for children ages 1–11. Kids will enjoy professional face painting, creative balloon art by Premier Entertainment, and plenty of springtime excitement! Cost is $10 per child!\Location:\nJefferson Barracks Historic Site\n345 North Road\nLemay, MO 63125
X-ALT-DESC;FMTTYPE=text/html:Bunny at the Barracks!<br /><br />03/28/26 10:00 AM CST - 03/28/26 01:00 PM CST<br />Description:<br />Registration for Bunny at the Barracks opens this Saturday!<br />
Hop into the fun by registering here: <a attributionsrc="/privacy_sandbox/comet/register/source/?xt=AZZ-cSxNn2X0OVyqTYRsVHHGMNnfvTam72JivNS_629ooCr2ia-wWXmEcuBVfRNRV8ewVbG4tkIRJdtI71FnLxx2gdwqtOkTy03sDXFrf8gw2BaKqy8kwVaedtl48oblYx3It4gzf1U7CE9IHF35_pWT_qyd4tCnMxDVOlGL3-Bd4gkS2ky5rsZHzQfKMMqavYzWIZn24y7NeKJ5Jl7C9GbAzcIsVo6fuWN0s4P7LnVYfVc4cOPibVrV1Ys5QOldJi8lOzK8bk503Ip7-t8QrBPgoAneQLDYPdVa297ECIdUQDR6EG3gnfsxXJ8IuCSSs2n4mMEp4MDLYiN6W1TRVeCca0l6DIK2WaPUQk-nYWN06uhmX3A7wkTf8E0WFvZg8WcBu9oVcSF6TxXW9tmHG_OTNsZjvm2J9O_p3AaZsp1CTNbVu6ohXuDHVjSdyAdQ4xIfSFX_EubMffN_9j1skaamUpC5B1wwc9LsUmiFrLLDXTXquN-NUBsE4jPtPKC5dY9X13McqZVTDTOfnKZuq6HsxYAnnTdVZxcDDYSH-4wkJr22sxycxdJXBlxXOOt_BFxHlP39kgW6O1FY8Zy9XkFsj-J1kjIyi-v7U-4ctAk4Fqy2VCKQBpUI94PaI53Tec7LvmV5u2ISf038NtQPztJb-7GPviVOaGK4CcJ6aGsihRb1nCqhnirNjppDplr_3FWfIqAE8O9bJYvprGVmwf0TbA83HzABynAwrr6piQ4_wYJiVYNRCn1RkxFFjypZl8BFAY_xK7aoGPUgwEpfk9Giy5x_Qq-0k0jtbNoOC-u6ZJW_SXxLT4l0XDQPjzBmlbFztegto4776PSjXAz5TNLmJisPyQYlKTryj2alhY4PV7OOI3Qdbgy9P4grPdox-XtWNtdPDFjzjrw2R2aGYkaP35v4lf8IdIOCaQtZr10liQJlHnVXdqxIp-g4EKHUqdICmDIjrB46_6a-MIyOekM3n_v5S2I9ejqRVRCElJVhIMXJrMdN3j7g-9YK1_pa9-Bgx-oFr5f06gpjxvqE0qRQi0kZp-0FgFr5_scIxarqaiKXsL6-2K8pgiJT_aSW6XB0PH-odBpfup4-8MyVMb2dnGouxw1iDIT50S5fR9137D0_LlRWDUwevKXBsmTz9USf5flVtq4JiUDVQ1pBDZq71fNNv8Yw07U_yyslFOqTX88lrlV5taq_Qe-487PWJ4S9rMc2ZpSbWcuLiaaXyLptZPI40-YkWbdUb6vp-bloWdb8I4LlXYmg_57U45WzLh2H6sNymA8SbDr9qT-C5HXKV7QUUxIRHC32YVVdHCmnAtELL-qwkrWNxuZ5gniXJwCX01YWEPL5CCMTXXsXuiYxC2FU4Y2gYUTOEbx-95x-RPEIurNSj-560U5BLjmv-3ZI2DHbsmCC8jBi-q54fUEn_xwOXewu86znqXPVnDQCBnS851QlBjAQn_ON20g07peIUysfMksF2QVrqcrTC5qUbYIp2WWIZ20Vfdfx4pK9OLs5wls-tmKKPl6ZrJKAeJhf5ldBG_gACgjZBHo_5_jgvZJqYfS0yQG33SBNfHiHit1qmsNiOBOyPuoqjYCQ6nr1ncj5yH1C4HJw41-xvZJu7wQt508eWpbkcDI5AvF-he4tW4m2EzFU2Uf-V_QW6gzHBBP9JcQ4GcMhfOler_9pBCfcmUL__wEehjjOPiFNdKBiyyb44G3tSLedQS54lfzNDrO9mdTJu56Nh0RK2DinxjtHT_zJ_8stoBU3BgvfkSgA_RN-HYjKVhbP93LtyGuJBSFOesJP6NDS2SMQBXr4No5vMBa-OkyAn5yXBHUGF03AROZTcjEwluqFUm1O6D0N09_56pzACxQd5MruawIV669wRwJq5-q9XQBuMGRVGEuuqupKVJGtINB_flafasiV4pBGQ7QdVlddpsirBnDgA4NXwrzTjozyCo_peL3MF1hyl8u4BBSI6sazmDt8uau3e_KG0O9c2Yjt9RmcGh-1kIg5-_Q3RXDLVL2ieihwC4qZZ6y4jY5wb_jPC5467keguGYjeTVPyI6zhBlvwS14RKifXB1vmrMEC-lVhZlkTBvCLjvNr6jLZdH8qyiw-Zj9ckqKj76w_bo_qQh-r6reZWtvB6Hx7_4dA5K-afB8mVu1K5S_17opW_rjVl51VXGdRBXE86mv5C23IoN88_5tHkPLr9JG1y5Q_TCv_Q3rT4GAxjQCw7on7_4dOp0wOWLEX9DRGqux0CBJw5Q4zSRZ0QHFFjLG-bpmvsbi7nCsPEH32I2Tb3u6YWdWT6M3bMwwzoNPE6fmZ05DMV0wfS7IZTxB7fYG0WGCehFg37iXTJAE_nOZOxoq3v4XKz4d_JOSTBL6DX1CFC864iMgZ37zbV8KoZAtgTglcDDxWm-jYK_unhJabqDJkFykWm_UgT4LTvJCps17v67BzGpwyFs2JFaLuEumrHqYhjhMlL84QpuVPDUySVMp1JN0zAQWo8Xl-CPp3_0HuMfNHo8Nbx0jPmKBZ98hIgk4mYdFC7Ma4xPMSdVefzwYsA00UsFq9G-2j5bcCJLtNWh7nWBnzuFaXtAlEFRnUnNhHPpcn5V9c-ma8sUlg6mL8euK8jbWM4S3cfnOKMbvP2PQ_uU26C9-Hn8QutAyrrEdF_yjUYu4dA5aoMKPtSeXKzk-q04ZmxKJ3C-HSFgM2F5ROnIa4pltIlgucY_p717JCdyDQVSDcx5B5xaSVzL7rffXL-wJCqI6jXmfpyhMqdmM9JZ6kEnYUFtmPfKNo7eI9nklr-zXyPXHxzDbLgZmPuUsenuytYWZH4xEPqLPEYvmTOJaAEKpTijf0Y03i9x1DIuN8EuSZ5q5-N1gqbRuCFBQW9fvAjPYiKit-CqzzPHLjkSN1j-bggdUJ9veyAEbUQVi18CvWjeNNLMfc-YYYIyxp5DfVNI" href="https://tinyurl.com/BatB26?fbclid=IwZXh0bgNhZW0CMTAAYnJpZBEyMEhHOUVnNmRIcTVLblNzSXNydGMGYXBwX2lkEDIyMjAzOTE3ODgyMDA4OTIAAR5UXQ7pp5a19v_bUJVDa5Gd-WlmlPfXNeeAjJdibI6nRC5rciLz69dGHmpBXg_aem_8Urpayo2GNqqWpakQUC8Dw" rel="nofollow noreferrer" role="link" tabindex="0" target="_blank">https://tinyurl.com/BatB26</a><br />
This festive event is perfect for children ages 1&ndash;11. Kids will enjoy professional face painting, creative balloon art by Premier Entertainment, and plenty of springtime excitement! Cost is $10 per child!<br />Location:<br />Jefferson Barracks Historic Site<br />345 North Road<br />Lemay, MO 63125
PRIORITY:3
TRANSP:TRANSPARENT
BEGIN:VALARM
TRIGGER:-PT5M
ACTION:DISPLAY
DESCRIPTION:Reminder
END:VALARM
END:VEVENT
END:VCALENDAR
