BEGIN:VCALENDAR
VERSION:2.0
CALSCALE:GREGORIAN
METHOD:PUBLISH
PRODID://HAIN//1415149
BEGIN:VEVENT
DTSTAMP:20260422T042354
VTIMEZONE:America/New_York
DTSTART:20260807T220000Z
DTEND:20260808T010000Z
UID:1415149
SUMMARY:44th Annual Pig Roast & Political Mingle
LOCATION:Lake Eva Event Center, 799 Johns Ave., Haines City, FL, 33844
DESCRIPTION:44th Annual Pig Roast & Political Mingle\n\n08/07/26 06:00 PM EST\n - 08/07/26 09:00 PM EST\Details:\nSAVE THE DATE FOR THE 44th Annual Pig Roast and Political Mingle!\n\nThis highly anticipated event will be held Friday, August 7th, 6 - 9 p.m., at the Lake Eva Event Center, 799 Johns Ave., Haines City, FL. \n\nThe event provides attendees the opportunity to meet and speak with Candidates, includes a fabulous catered dinner, entertainment, a photo booth, Door prizes, Parade of Candidates, & more!  \n\nThank you to our Event Sponsors that are already on board! \n\nPresidential:  CEMEX, City of Haines City, City of Davenport, Proflex\nCongressional:   Sun Newspapers, Suncoast Credit Union\nGubernatorial: HCA Florida Healthcare Poinciana Hospital, SouthState Bank\nState Legislature:   Citizens Bank & Trust, Duke Energy, Pennoni, Polk State College Citizens Bank & Trust\nExclusive Printing Sponsor:  Cromer Press\nLegislative Aide: BayCare, MIDFLORIDA Credit Union\n \n\n\n	ï»¿Tickets:  $50 per person\n	Candidate Packages:  $175 (*All candidates running for any political office MUST purchase the Candidate Package to attend the event - The Candidate package includes one ticket to the event (for the Candidate) and a 6' table in the lobby for campaign material - any additional attendees (campaign staff, spouse, etc...) must purchase a ticket at the regular ticket price of $50 per person to attend. Candidates can arrive at the event anytime after 4:30 p.m. to set up campaign material - first-come, first-served on set-up location.   \n	Reserved tables of 8 & 10 also available. \n\n\n RSVP, Tickets and Registration coming soon!\n\n*All tickets and packages are nonrefundable. No rain checks. Pre-payment and Registration Required - No tickets will be sold at the door.  \n\nMore info coming soon!  \n\Location:\nLake Eva Event Center\n799 Johns Ave.\nHaines City, FL 33844
X-ALT-DESC;FMTTYPE=text/html:44th Annual Pig Roast & Political Mingle<br /><br />08/07/26 06:00 PM EST - 08/07/26 09:00 PM EST<br />Details:<br /><p><strong>SAVE THE DATE&nbsp;FOR THE 44th Annual Pig Roast and Political Mingle!</strong></p>

<p><strong>This highly anticipated event will be held Friday, August 7th, 6 - 9 p.m., at the Lake Eva Event Center, 799 Johns Ave., Haines City, FL.&nbsp;</strong></p>

<p>The event provides attendees the opportunity to meet and speak with Candidates, includes a fabulous catered dinner, entertainment, a photo booth, Door prizes, Parade of Candidates, &amp; more!&nbsp;&nbsp;</p>

<p><strong>Thank you to our Event&nbsp;Sponsors that are already on board!&nbsp;</strong></p>

<p><strong>Presidential</strong>:&nbsp;&nbsp;<a href="https://www.cemexusa.com/" runtime_url="https://www.cemexusa.com/" target="_blank" type="url">CEMEX</a>,&nbsp;<a href="https://www.hainescity.com/" runtime_url="https://www.hainescity.com/" target="_blank" type="url">City of Haines City</a>,&nbsp;<a href="https://www.mydavenport.org/" runtime_url="https://www.mydavenport.org/" target="_blank" type="url">City of Davenport</a>,&nbsp;<a href="https://proflex.us/" runtime_url="https://proflex.us/" target="_blank" type="url">Proflex</a><br />
<strong>Congressional:</strong>&nbsp; &nbsp;<a href="https://www.midfloridanewspapers.com/four_corners_news_sun/" runtime_url="https://www.midfloridanewspapers.com/four_corners_news_sun/" target="_blank" type="url">Sun Newspapers</a>, <a href="https://www.suncoast.com/">Suncoast Credit Union</a><br />
<strong>Gubernatorial</strong>:&nbsp;<a href="https://www.hcafloridahealthcare.com/locations/poinciana-hospital/?utm_campaign=corp_listings_mgmt&amp;utm_source=google&amp;utm_medium=business_listing" rel="nofollow" runtime_url="https://www.hcafloridahealthcare.com/locations/poinciana-hospital/?utm_campaign=corp_listings_mgmt&amp;utm_source=google&amp;utm_medium=business_listing" target="_blank" type="url">HCA Florida Healthcare Poinciana Hospital,</a>&nbsp;<a href="https://www.southstatebank.com/personal" runtime_url="https://www.southstatebank.com/personal" target="_blank" type="url">SouthState Bank</a><br />
<strong>State Legislature:</strong>&nbsp;&nbsp;&nbsp;<a href="https://www.hcafloridahealthcare.com/locations/poinciana-hospital/?utm_campaign=corp_listings_mgmt&amp;utm_source=google&amp;utm_medium=business_listing" rel="nofollow" runtime_url="https://www.hcafloridahealthcare.com/locations/poinciana-hospital/?utm_campaign=corp_listings_mgmt&amp;utm_source=google&amp;utm_medium=business_listing" target="_blank" type="url">Citizens Bank &amp; Trust</a>,&nbsp;<a href="https://www.duke-energy.com/home" runtime_url="https://www.duke-energy.com/home" target="_blank" type="url">Duke Energy</a>,&nbsp;<a href="https://www.pennoni.com/" runtime_url="https://www.pennoni.com/" target="_blank" type="url">Pennoni</a>,&nbsp;<a href="https://www.polk.edu/" runtime_url="https://www.polk.edu/" target="_blank" type="url">Polk State College</a>&nbsp;<a href="https://www.hcafloridahealthcare.com/locations/poinciana-hospital/?utm_campaign=corp_listings_mgmt&amp;utm_source=google&amp;utm_medium=business_listing" rel="nofollow" runtime_url="https://www.hcafloridahealthcare.com/locations/poinciana-hospital/?utm_campaign=corp_listings_mgmt&amp;utm_source=google&amp;utm_medium=business_listing" target="_blank" type="url">Citizens Bank &amp; Trust</a><br />
<strong>Exclusive Printing Sponsor:</strong>&nbsp;&nbsp;<a href="https://www.cromerprinting.com/" rel="nofollow" runtime_url="https://www.cromerprinting.com/" target="_blank" type="url">Cromer Press</a><br />
<strong>Legislative Aide</strong>:&nbsp;<a href="https://baycare.org/locations/hospitals/winter-haven-hospital/patients-and-visitors/" runtime_url="https://baycare.org/locations/hospitals/winter-haven-hospital/patients-and-visitors/" target="_blank" type="url">BayCare</a>,&nbsp;<a href="https://www.midflorida.com/" runtime_url="https://www.midflorida.com/" target="_blank" type="url">MIDFLORIDA Credit Union</a><br />
&nbsp;</p>

<ul>
	<li>ï»¿<strong>Tickets</strong>:&nbsp; $50 per person</li>
	<li><strong>Candidate Packages:&nbsp;</strong>&nbsp;$175 (*All candidates running for any political office&nbsp;<strong>MUST</strong>&nbsp;purchase the Candidate Package to attend the event - The Candidate package includes one ticket to the event (for the Candidate) and a 6' table in the lobby for campaign material - any additional attendees (campaign staff, spouse, etc...) must purchase a ticket at the regular ticket price of $50 per person to attend. Candidates can arrive at the event anytime after 4:30 p.m. to set up campaign material - first-come, first-served on set-up location.&nbsp; &nbsp;</li>
	<li><strong>Reserved tables of 8 &amp; 10 also available.&nbsp;</strong></li>
</ul>

<p><strong>&nbsp;RSVP, Tickets&nbsp;and Registration coming soon!</strong></p>

<p>*All tickets and packages are nonrefundable. No rain checks. Pre-payment and Registration Required - No tickets will be sold at the door.&nbsp;&nbsp;<br />
<br />
<strong>More info coming soon!&nbsp;&nbsp;</strong></p>
<br />Location:<br />Lake Eva Event Center<br />799 Johns Ave.<br />Haines City, FL 33844
PRIORITY:3
TRANSP:TRANSPARENT
BEGIN:VALARM
TRIGGER:-PT5M
ACTION:DISPLAY
DESCRIPTION:Reminder
END:VALARM
END:VEVENT
END:VCALENDAR
