BEGIN:VCALENDAR
VERSION:2.0
CALSCALE:GREGORIAN
METHOD:PUBLISH
PRODID://HAIN//1415176
BEGIN:VEVENT
DTSTAMP:20260422T045400
VTIMEZONE:America/New_York
DTSTART:20260820T153000Z
DTEND:20260820T170000Z
UID:1415176
SUMMARY:Chamber Luncheon Polk County Government Update - County Manager Bill Beasley
LOCATION:Tom Fellows Event Center, 207 North Blvd. West, Davenport, FL
DESCRIPTION:Chamber Luncheon Polk County Government Update - County Manager Bill Beasley\n\n08/20/26 11:30 AM EST\n - 08/20/26 01:00 PM EST\Details:\nJoin us for a Chamber Luncheon featuring an update on Polk County Government from County Manager Bill Beasley.\n\nDate:  Thursday, August 20th\nTime: 11:30 a.m. - approx. 1 p.m.\nLocation:  Tom Fellows Event Center, 207 North Blvd. West, Davenport, FL  \nCost: Chamber Members $20 per person; Non-Members $25 per person\nRSVP REQUIRED TO THE CHAMBER BY FRIDAY, AUGUST 14th!\n\nRegister and pay online coming soon or email info@northeastpolkchamber.com or call 863-422-3751 to RSVP and be invoiced.  *Due to catering requirements, those that RSVP and do not cancel by the Monday before the event will be charged.\n\nThank you to our Luncheon Sponsors:  Duke Energy, Low Payment Kings/Posner Park CDJR and Suncoast Credit Union\n\Location:\nTom Fellows Event Center\n207 North Blvd. West\nDavenport, FL
X-ALT-DESC;FMTTYPE=text/html:Chamber Luncheon Polk County Government Update - County Manager Bill Beasley<br /><br />08/20/26 11:30 AM EST - 08/20/26 01:00 PM EST<br />Details:<br /><strong>Join us for a Chamber Luncheon featuring an update on Polk County Government from County Manager Bill Beasley.</strong><br />
<br />
<strong>Date</strong>:&nbsp; Thursday,&nbsp;August 20th<br />
<strong>Time</strong>:&nbsp;11:30 a.m. - approx. 1 p.m.<br />
<strong>Location</strong>:&nbsp; Tom Fellows Event Center, 207 North Blvd. West, Davenport, FL&nbsp;&nbsp;<br />
<strong>Cost:&nbsp;</strong>Chamber Members $20 per person; Non-Members $25 per person<br />
<strong>RSVP REQUIRED TO THE CHAMBER BY FRIDAY, AUGUST 14th!</strong><br />
<br />
Register and pay online coming soon or email info@northeastpolkchamber.com or call 863-422-3751 to RSVP and be invoiced.&nbsp;&nbsp;*Due to catering requirements, those that RSVP and do not cancel by the Monday before the event will be charged.
<p><br />
<strong>Thank you</strong>&nbsp;<strong>to our Luncheon Sponsors:&nbsp; </strong><a href="https://www.duke-energy.com/home"><u><strong>Duke Energy</strong></u></a>, <a href="https://www.posnerparkchrysler.com/?utm_source=ne_polk_chamber&amp;utm_medium=referral&amp;utm_campaign=business%20_directory"><u><strong>Low Payment Kings/Posner Park CDJR</strong></u></a> and<strong>&nbsp;<a href="https://www.suncoast.com/"><u>Suncoast Credit Union</u></a></strong></p>
<br />Location:<br />Tom Fellows Event Center<br />207 North Blvd. West<br />Davenport, FL 
PRIORITY:3
TRANSP:TRANSPARENT
BEGIN:VALARM
TRIGGER:-PT5M
ACTION:DISPLAY
DESCRIPTION:Reminder
END:VALARM
END:VEVENT
END:VCALENDAR
