BEGIN:VCALENDAR
VERSION:2.0
CALSCALE:GREGORIAN
METHOD:PUBLISH
PRODID://AFFT//1415227
BEGIN:VEVENT
DTSTAMP:20260423T074111
VTIMEZONE:America/Chicago
DTSTART:20260307T160000Z
DTEND:20260307T170000Z
UID:1415227
SUMMARY:Remembering Julia Grant Through Her Memoirs
LOCATION:Ulysses S. Grant National Historic Site , 7400 Grant Rd. , St. Louis, MO, 63123
DESCRIPTION:Remembering Julia Grant Through Her Memoirs\n\n03/07/26 10:00 AM CST\n - 03/07/26 11:00 AM CST\Description:\nUlysses S. Grant did not preserve letters Julia wrote to her husband, but she left her family and posterity her memoir and the letters Ulysses sent her starting with their long-distance courtship. Using those words, Diana Carlin paints a picture of the woman who was a daughter of the West, a soldier’s wife, a first lady, and an intrepid world traveler.\n\nDiana B. Carlin is professor emerita of communication at Saint Louis University and a former associate provost. She is currently completing a chapter on Julia Grant’s memoir for a book to be published by the University Press of Kansas. The program is free. Call 314-842-1867 ext. 230 for reservations.\Details:\nThis event is free. Please call (314) 842-1867 ext 230 to make reservations. \Location:\nUlysses S. Grant National Historic Site \n7400 Grant Rd. \nSt. Louis, MO 63123
X-ALT-DESC;FMTTYPE=text/html:Remembering Julia Grant Through Her Memoirs<br /><br />03/07/26 10:00 AM CST - 03/07/26 11:00 AM CST<br />Description:<br />Ulysses S. Grant did not preserve letters Julia wrote to her husband, but she left her family and posterity her memoir and the letters Ulysses sent her starting with their long-distance courtship. Using those words, Diana Carlin paints a picture of the woman who was a daughter of the West, a soldier&rsquo;s wife, a first lady, and an intrepid world traveler.<br />
<br />
Diana B. Carlin is professor emerita of communication at Saint Louis University and a former associate provost. She is currently completing a chapter on Julia Grant&rsquo;s memoir for a book to be published by the University Press of Kansas. The program is free. Call 314-842-1867 ext. 230 for reservations.<br />Details:<br />This event is free. Please call (314) 842-1867 ext 230 to make reservations.&nbsp;<br />Location:<br />Ulysses S. Grant National Historic Site <br />7400 Grant Rd. <br />St. Louis, MO 63123
PRIORITY:3
TRANSP:TRANSPARENT
BEGIN:VALARM
TRIGGER:-PT5M
ACTION:DISPLAY
DESCRIPTION:Reminder
END:VALARM
END:VEVENT
END:VCALENDAR
