BEGIN:VCALENDAR
VERSION:2.0
CALSCALE:GREGORIAN
METHOD:PUBLISH
PRODID://TSCC//1415309
BEGIN:VEVENT
DTSTAMP:20260424T095117
VTIMEZONE:America/Denver
DTSTART:20260924T140000Z
DTEND:20260924T203000Z
UID:1415309
SUMMARY:2026 South County Business Summit
LOCATION:
DESCRIPTION:2026 South County Business Summit\n\n09/24/26 08:00 AM MST\n - 09/24/26 02:30 PM MST
X-ALT-DESC;FMTTYPE=text/html:2026 South County Business Summit<br /><br />09/24/26 08:00 AM MST - 09/24/26 02:30 PM MST
PRIORITY:3
TRANSP:TRANSPARENT
BEGIN:VALARM
TRIGGER:-PT5M
ACTION:DISPLAY
DESCRIPTION:Reminder
END:VALARM
END:VEVENT
END:VCALENDAR
