BEGIN:VCALENDAR
VERSION:2.0
CALSCALE:GREGORIAN
METHOD:PUBLISH
PRODID://TSCC//1415315
BEGIN:VEVENT
DTSTAMP:20260424T095140
VTIMEZONE:America/Denver
DTSTART:20260613T220000Z
DTEND:20260613T223000Z
UID:1415315
SUMMARY:Business BINGO Drawing
LOCATION:
DESCRIPTION:Business BINGO Drawing\n\n06/13/26 04:00 PM MST\n - 06/13/26 04:30 PM MST
X-ALT-DESC;FMTTYPE=text/html:Business BINGO Drawing<br /><br />06/13/26 04:00 PM MST - 06/13/26 04:30 PM MST
PRIORITY:3
TRANSP:TRANSPARENT
BEGIN:VALARM
TRIGGER:-PT5M
ACTION:DISPLAY
DESCRIPTION:Reminder
END:VALARM
END:VEVENT
END:VCALENDAR
