BEGIN:VCALENDAR
VERSION:2.0
CALSCALE:GREGORIAN
METHOD:PUBLISH
PRODID://HAIN//1415389
BEGIN:VEVENT
DTSTAMP:20260422T042354
VTIMEZONE:America/New_York
DTSTART:20260910T153000Z
DTEND:20260910T170000Z
UID:1415389
SUMMARY:Chamber Luncheon - AdventHealth Update
LOCATION:Lake Eva Event Center, 799 Johns Ave., Haines City, FL, 33844
DESCRIPTION:Chamber Luncheon - AdventHealth Update\n\n09/10/26 11:30 AM EST\n - 09/10/26 01:00 PM EST\Details:\nJoin us for our Chamber Luncheon featuring an update from Tim Clark, CEO of AdventHealth Heart of Florida on what is happening now and coming soon to AdventHeatlh!\n \n\nDate: Thursday, September 10, 2026\n\nTime: 11:30 a.m. - approx. 1 p.m.\n\nLocation: Lake Eva Event Center, 799 Johns Ave., Haines City, FL\n\nCost: Chamber Members $20 per person; Non-Members $25 per person\n\nRSVP: REQUIRED to the Chamber by Friday, September 4th\n\nRegister and pay online coming soon - or call 863-422-3751 or email info@northeastpolkchamber.com to RSVP and be invoiced.  *Due to catering requirements, those that RSVP and do not cancel by the Monday before the event will be charged.\n\n \n\nA Big Thank you to our Exclusive Luncheon Sponsor: AdventHealth Heart of Florida\n\Location:\nLake Eva Event Center\n799 Johns Ave.\nHaines City, FL 33844
X-ALT-DESC;FMTTYPE=text/html:Chamber Luncheon - AdventHealth Update<br /><br />09/10/26 11:30 AM EST - 09/10/26 01:00 PM EST<br />Details:<br /><p>Join us for our Chamber Luncheon featuring an update from Tim Clark, CEO of AdventHealth Heart of Florida on what is happening now and coming soon to AdventHeatlh!<br />
&nbsp;</p>

<p>Date: Thursday, September 10, 2026</p>

<p>Time: 11:30 a.m. - approx. 1 p.m.</p>

<p>Location: Lake Eva Event Center, 799 Johns Ave., Haines City, FL</p>

<p>Cost: Chamber Members $20 per person; Non-Members $25 per person</p>

<p>RSVP: REQUIRED to the Chamber by Friday, September 4th</p>

<p>Register and pay online coming soon - or call 863-422-3751 or email info@northeastpolkchamber.com to RSVP and be invoiced.&nbsp;&nbsp;*Due to catering requirements, those that RSVP and do not cancel by the Monday before the event will be charged.</p>

<p>&nbsp;</p>

<p><strong>A Big Thank you to our Exclusive Luncheon Sponsor: <a draggable="false" href="https://www.adventhealth.com/hospital/adventhealth-heart-florida" rel="noopener" target="_blank">AdventHealth Heart of Florida</a></strong></p>
<br />Location:<br />Lake Eva Event Center<br />799 Johns Ave.<br />Haines City, FL 33844
PRIORITY:3
TRANSP:TRANSPARENT
BEGIN:VALARM
TRIGGER:-PT5M
ACTION:DISPLAY
DESCRIPTION:Reminder
END:VALARM
END:VEVENT
END:VCALENDAR
