BEGIN:VCALENDAR
VERSION:2.0
CALSCALE:GREGORIAN
METHOD:PUBLISH
PRODID://HAIN//1415450
BEGIN:VEVENT
DTSTAMP:20260422T042354
VTIMEZONE:America/New_York
DTSTART:20261008T153000Z
DTEND:20261008T170000Z
UID:1415450
SUMMARY:Chamber Luncheon  - State Attorney Brian Haas
LOCATION:Tom Fellows Event Center, 207 North Blvd. West, Davenport, FL
DESCRIPTION:Chamber Luncheon  - State Attorney Brian Haas\n\n10/08/26 11:30 AM EST\n - 10/08/26 01:00 PM EST\Details:\nJoin us for a Chamber Luncheon featuring an update from State Attorney Brian Haas.\n\nDate:  Thursday, October 8th\nTime: 11:30 a.m. - approx. 1 p.m.\nLocation:  Tom Fellows Event Center, 207 North Blvd. West, Davenport, FL  \nCost: Chamber Members $20 per person; Non-Members $25 per person\nRSVP REQUIRED TO THE CHAMBER BY FRIDAY, OCTOBER 2ND!\n\nRegister and pay online coming soon or email info@northeastpolkchamber.com or call 863-422-3751 to RSVP and be invoiced.  *Due to catering requirements, those that RSVP and do not cancel by the Monday before the event will be charged.\n\nThank you to our Luncheon Sponsors:  Florida Blue and Polk State College\n\Location:\nTom Fellows Event Center\n207 North Blvd. West\nDavenport, FL
X-ALT-DESC;FMTTYPE=text/html:Chamber Luncheon  - State Attorney Brian Haas<br /><br />10/08/26 11:30 AM EST - 10/08/26 01:00 PM EST<br />Details:<br /><strong>Join us for a Chamber Luncheon featuring an update from State Attorney Brian Haas.</strong><br />
<br />
<strong>Date</strong>:&nbsp; Thursday,&nbsp;October 8th<br />
<strong>Time</strong>:&nbsp;11:30 a.m. - approx. 1 p.m.<br />
<strong>Location</strong>:&nbsp; Tom Fellows Event Center, 207 North Blvd. West, Davenport, FL&nbsp;&nbsp;<br />
<strong>Cost:&nbsp;</strong>Chamber Members $20 per person; Non-Members $25 per person<br />
<strong>RSVP REQUIRED TO THE CHAMBER BY FRIDAY, OCTOBER 2ND!</strong><br />
<br />
Register and pay online coming soon or email info@northeastpolkchamber.com or call 863-422-3751 to RSVP and be invoiced.&nbsp;&nbsp;*Due to catering requirements, those that RSVP and do not cancel by the Monday before the event will be charged.
<p><br />
<strong>Thank you</strong>&nbsp;<strong>to our Luncheon Sponsors:&nbsp;<a href="https://www.floridablue.com/"> Florida Blue</a>&nbsp;</strong>and&nbsp;<a href="https://www.polk.edu/"><strong>Polk State College</strong></a></p>
<br />Location:<br />Tom Fellows Event Center<br />207 North Blvd. West<br />Davenport, FL 
PRIORITY:3
TRANSP:TRANSPARENT
BEGIN:VALARM
TRIGGER:-PT5M
ACTION:DISPLAY
DESCRIPTION:Reminder
END:VALARM
END:VEVENT
END:VCALENDAR
