BEGIN:VCALENDAR
VERSION:2.0
CALSCALE:GREGORIAN
METHOD:PUBLISH
PRODID://TSCC//1415483
BEGIN:VEVENT
DTSTAMP:20260424T095116
VTIMEZONE:America/Denver
DTSTART:20260921T140000Z
DTEND:20260921T200000Z
UID:1415483
SUMMARY:2026 Scholarship & Charity Golf Tournament
LOCATION:
DESCRIPTION:2026 Scholarship & Charity Golf Tournament\n\n09/21/26 08:00 AM MST\n - 09/21/26 02:00 PM MST
X-ALT-DESC;FMTTYPE=text/html:2026 Scholarship & Charity Golf Tournament<br /><br />09/21/26 08:00 AM MST - 09/21/26 02:00 PM MST
PRIORITY:3
TRANSP:TRANSPARENT
BEGIN:VALARM
TRIGGER:-PT5M
ACTION:DISPLAY
DESCRIPTION:Reminder
END:VALARM
END:VEVENT
END:VCALENDAR
