BEGIN:VCALENDAR
VERSION:2.0
CALSCALE:GREGORIAN
METHOD:PUBLISH
PRODID://JCOC//1415621
BEGIN:VEVENT
DTSTAMP:20260424T112913
VTIMEZONE:America/Chicago
DTSTART:20260308T000000Z
DTEND:20260308T020000Z
UID:1415621
SUMMARY:Date Night Paint & Sip
LOCATION:Bridges Mercantile, 108 E Main St, Jenks, OK, 74037
DESCRIPTION:Date Night Paint & Sip\n\n03/07/26 06:00 PM CST\n - 03/07/26 08:00 PM CST\Description:\nUnwind and get creative at our Date Night Paint & Sip with Artist Tami Smith from The Spirited Canvas! Enjoy a relaxed evening painting side by side while sipping your favorite drink and enjoying some light bites. No experience needed—just bring your favorite person, your imagination, and get ready for laughs, connection, and a masterpiece to take home. Register for the event here: http://bridgestulsa.ejoinme.org/datenightregistration \Details:\nWhether you are new to painting or you are a seasoned artist, you will have a great time of laughter, creativity and community as we paint, Aspen Sky. Grab your significant other or your best friend and come paint with us!\Location:\nBridges Mercantile\n108 E Main St\nJenks, OK 74037
X-ALT-DESC;FMTTYPE=text/html:Date Night Paint & Sip<br /><br />03/07/26 06:00 PM CST - 03/07/26 08:00 PM CST<br />Description:<br />Unwind and get creative at our Date Night Paint &amp; Sip with Artist Tami Smith from The Spirited Canvas! Enjoy a relaxed evening painting side by side while sipping your favorite drink and enjoying some light bites. No experience needed&mdash;just bring your favorite person, your imagination, and get ready for laughs, connection, and a masterpiece to take home. Register for the event here:&nbsp;<a href="http://bridgestulsa.ejoinme.org/datenightregistration">http://bridgestulsa.ejoinme.org/datenightregistration&nbsp;</a><br />Details:<br />Whether you are new to painting or you are a seasoned artist, you will have a great time of laughter, creativity and community as we paint, Aspen Sky. Grab your significant other or your best friend and come paint with us!<br />Location:<br />Bridges Mercantile<br />108 E Main St<br />Jenks, OK 74037
PRIORITY:3
TRANSP:TRANSPARENT
BEGIN:VALARM
TRIGGER:-PT5M
ACTION:DISPLAY
DESCRIPTION:Reminder
END:VALARM
END:VEVENT
END:VCALENDAR
