BEGIN:VCALENDAR
VERSION:2.0
CALSCALE:GREGORIAN
METHOD:PUBLISH
PRODID://JCOC//1415642
BEGIN:VEVENT
DTSTAMP:20260424T110758
VTIMEZONE:America/Chicago
DTSTART:20260326T230000Z
DTEND:20260327T020000Z
UID:1415642
SUMMARY:Bridges Back Roads Bash
LOCATION:Spain Ranch, 732 E 116th St , Jenks, OK, 74037
DESCRIPTION:Bridges Back Roads Bash\n\n03/26/26 06:00 PM CST\n - 03/26/26 09:00 PM CST\Description:\nJoin us for an unforgettable evening at Spain Ranch in Jenks as Bridges proudly hosts our 4th annual Back Roads Bash. Enjoy a vibrant night of live music, live artists, an exciting auction, and more — all in support of our mission to empower\nindividuals with barriers to employment.\n\n \n\Details:\nThis celebration brings together community, creativity, and purpose. Don’t miss out on what promises to be a truly memorable night! Find sponsorship information, purchase tickets and get fully registered here: \n https://bridgestulsa.ejoinme.org/BridgesBackRoadsBash26 \n\Location:\nSpain Ranch\n732 E 116th St \nJenks, OK 74037
X-ALT-DESC;FMTTYPE=text/html:Bridges Back Roads Bash<br /><br />03/26/26 06:00 PM CST - 03/26/26 09:00 PM CST<br />Description:<br /><p id="yui_3_17_2_1_1772210098470_494" style="text-align: center;"><strong><a href="https://bridgestulsa.ejoinme.org/BridgesBackRoadsBash26">Join us for an unforgettable evening at Spain Ranch in Jenks as Bridges proudly hosts our 4th annual Back Roads Bash. Enjoy a vibrant night of live music, live artists, an exciting auction, and more &mdash; all in support of our mission to empower<br />
individuals with barriers to employment.</a></strong></p>

<p style="text-align: center;">&nbsp;</p>
<br />Details:<br /><div style="text-align: center;">This celebration brings together community, creativity, and purpose. Don&rsquo;t miss out on what promises to be a truly memorable night! Find sponsorship information, purchase tickets and get fully registered here:&nbsp;<br />
<a href="https://bridgestulsa.ejoinme.org/BridgesBackRoadsBash26">&nbsp;https://bridgestulsa.ejoinme.org/BridgesBackRoadsBash26</a>&nbsp;</div>
<br />Location:<br />Spain Ranch<br />732 E 116th St <br />Jenks, OK 74037
PRIORITY:3
TRANSP:TRANSPARENT
BEGIN:VALARM
TRIGGER:-PT5M
ACTION:DISPLAY
DESCRIPTION:Reminder
END:VALARM
END:VEVENT
END:VCALENDAR
