BEGIN:VCALENDAR
VERSION:2.0
CALSCALE:GREGORIAN
METHOD:PUBLISH
PRODID://JCOC//1415647
BEGIN:VEVENT
DTSTAMP:20260424T123214
VTIMEZONE:America/Chicago
DTSTART:20260228T150000Z
DTEND:20260228T200000Z
UID:1415647
SUMMARY:Community Blood Drive hosted by Newspring Family Church
LOCATION:Suite Shots at the Jenks Riverwalk, 600 Riverwalk Terrace, Jenks, OK, 74037
DESCRIPTION:Community Blood Drive hosted by Newspring Family Church\n\n02/28/26 09:00 AM CST\n - 02/28/26 02:00 PM CST\Description:\nJenks Superhero Challenge- Kids Care\n\nKids, bring your adults to Suite Shots at the Jenks Riverwalk to donate blood to save lives. \nDonors (Must be at least 16 yrs old) will receive our Donor Champions shirt and the kid who brings them will get a collectable plsuh toy.\n\nIt's a win, win, WIN on a beautiful Oklahoma day!\Details:\nVisit us at Suite Shots at the Jenks Riverwalk this Saturday, Feb. 28. We are hosting the first Jenks Kids Care program. Be a superhero and help us save lives.\Location:\nSuite Shots at the Jenks Riverwalk\n600 Riverwalk Terrace\nJenks, OK 74037
X-ALT-DESC;FMTTYPE=text/html:Community Blood Drive hosted by Newspring Family Church<br /><br />02/28/26 09:00 AM CST - 02/28/26 02:00 PM CST<br />Description:<br />Jenks Superhero Challenge- Kids Care<br />
<br />
Kids, bring your adults to Suite Shots at the Jenks Riverwalk to donate blood to save lives.&nbsp;<br />
Donors (Must be at least 16 yrs old) will receive our Donor Champions shirt and the kid who brings them will get a collectable plsuh toy.<br />
<br />
It's a win, win, WIN on a beautiful Oklahoma day!<br />Details:<br />Visit us at Suite Shots at the Jenks Riverwalk this Saturday, Feb. 28. We are hosting the first Jenks Kids Care program. Be a superhero and help us save lives.<br />Location:<br />Suite Shots at the Jenks Riverwalk<br />600 Riverwalk Terrace<br />Jenks, OK 74037
PRIORITY:3
TRANSP:TRANSPARENT
BEGIN:VALARM
TRIGGER:-PT5M
ACTION:DISPLAY
DESCRIPTION:Reminder
END:VALARM
END:VEVENT
END:VCALENDAR
