BEGIN:VCALENDAR
VERSION:2.0
CALSCALE:GREGORIAN
METHOD:PUBLISH
PRODID://WICC//1415735
BEGIN:VEVENT
DTSTAMP:20260422T184652
VTIMEZONE:America/Los_Angeles
DTSTART:20260429T010000Z
DTEND:20260429T020000Z
UID:1415735
SUMMARY:Willows City Council mtg
LOCATION:Willows City Hall, 201 N. Lassen St., Willows, CA, 95988
DESCRIPTION:Willows City Council mtg\n\n04/28/26 06:00 PM PST\n - 04/28/26 07:00 PM PST\Location:\nWillows City Hall\n201 N. Lassen St.\nWillows, CA 95988
X-ALT-DESC;FMTTYPE=text/html:Willows City Council mtg<br /><br />04/28/26 06:00 PM PST - 04/28/26 07:00 PM PST<br />Location:<br />Willows City Hall<br />201 N. Lassen St.<br />Willows, CA 95988
PRIORITY:3
TRANSP:TRANSPARENT
BEGIN:VALARM
TRIGGER:-PT5M
ACTION:DISPLAY
DESCRIPTION:Reminder
END:VALARM
END:VEVENT
END:VCALENDAR
