BEGIN:VCALENDAR
VERSION:2.0
CALSCALE:GREGORIAN
METHOD:PUBLISH
PRODID://HAIN//1415898
BEGIN:VEVENT
DTSTAMP:20260422T041559
VTIMEZONE:America/New_York
DTSTART:20260307T130000Z
DTEND:20260307T170000Z
UID:1415898
SUMMARY:Orlando Health/Watson Clinic RN Hiring Event
LOCATION:Polk State College Lakeland Campus, 3425 Winter Lake Road, Lakeland, FL, 33803
DESCRIPTION:Orlando Health/Watson Clinic RN Hiring Event\n\n03/07/26 08:00 AM EST\n - 03/07/26 12:00 PM EST\Details:\nOrlando Health Watson Clinic RN Hiring Event! Saturday, March 7th, 8 a.m. - 12 p.m.  Polk State College - Lakeland Campus.  This event is designed exclusively for registered nurses with at least one year of experience.  See the flyer for additional details.\Location:\nPolk State College Lakeland Campus\n3425 Winter Lake Road\nLakeland, FL 33803
X-ALT-DESC;FMTTYPE=text/html:Orlando Health/Watson Clinic RN Hiring Event<br /><br />03/07/26 08:00 AM EST - 03/07/26 12:00 PM EST<br />Details:<br /><a attributionsrc="/privacy_sandbox/comet/register/source/?xt=AZYSmxuVyttuuosSQP8p1dpUflsXwEfn5nTIJxMN9hgSbiUxM8OwWD4r9Waj1LXtOGmhNKidqh9oK_rglP1tMR-6-BMnw7hrSSKd8MhjWb578k37aWnMf_KJ-FQydZI5Lu83d7X1FJ4EP1r8VGMSpKw_XnqkGMPTELk-5uwUhCnmhnqZcmuxY7glH7znTjMcldunV6_IsGS6YhMgnQB4ahf0K3swv_vFHcKL4B9Nw237Cuc5EFLd8rJSvRDibYvq42Mvu_kCs8IhD5J0_nOe9P5jegRrKBc5USGGtpPv6MrVmv-9AurO2-jlhbFH-14H7waoYEKAgtJF8D6l2SqSK9SRXJm0xkMGAGAGXzP_2DZf4woUlVAdfLS2jrbMvaoHE4g-Z3RRJiriRSzeZdQeFjUuRjaN_32Z_TdUeNNwzQMcsIV_U23EtLVkeb5qWsNBeeUQZn6UJS7oB54FnyWXLRL0YQrJ9_DrRFOuhdM_uwF039X3xvA9HLJbAPpHGBDeVed3zV8x2fDxmOE_J5mbUONuwOVWTtwjCiEewTOndWq1geRt5YwQhleP_KBobaMaBNxjYI2nlw5iSuvJ-f7wgxoDltsthqY6McEWnI8PhqZN7sCDdy1LfP2m2ZYS7114H0kgoFG8EYFumwG7dIRSpC3mtZg650qz8fHw3MvLuaAesnEy7VnJ8-lP-UM8eSTk1g3oMWm7yJvH1oh2z4KllJqD767QhL5J2pfAvnGq75B3LFMYgp_X8TweZYkDinMevv_89niITpuwmpIxRmd-owE3W-PVY47zQzT1RvDqkal4in0T1aqrqtmM-WlB6IH4BYt_TmiHBEPg3rJxYpj4G-YTxcLfi-VTfD9QLXLTtlUFiYsVOMfL4u6qgHWN1-5aZ_lhRLazYhycFGzyyGr8s65p0cRgFDcwQWvxjDzFQ8AQ5qxx9TFi-UMLHy5_hx4svi5cOPcv7d17QTKBIoocR5sEEepdzD6pmEEgFbmCuTkIakDsex-WHs6EjSARGSqYyZ8pUMra75bLymV3NccjlrOhSDhAPnMQkFu9JTKpenbZreBXn2zBgvnEGYZ_fQG6phIFAFrDXDIF5M2Vj_ocDzrJAq9n99sxDPMKZuBt3HdTEsR-GWh646o_Yz9srsAra9tyLEBrAQaeNAVYVUSBsfBPZ7Ax5c81nN0cleXzm8gPpT471FZlNdHw6QC-b15ZgcwoQiWYdhz70rFgTEwtluOzJpzRr24rO4T1CRLPE8K2EbixvLeOhfN49OqyleH_y7OBRoHXMhalsDXzI03y3FUNkxba2-Dimfbo3TIMcHxhhM9TSFVab23jhuZUq7B5wO7sHvYs_bO_2aNeCO1ows99EmIf9M3Iwr-Nn5Dbj9DIRrPbD0TZKZTQGZrv_o95wD0LHvE1e12YjA6c7m8TUuApsJJQALrFpMFjNI8BnlreLuiLbJR24Bj9addk20ZNhMcPWokOYrYqq-XGyUb9s-vMxZlmuoR1suxPWvxsjHgyrom3Cma8qGNzZo-WkAuhRpRVo9cP6lrWdsBYUoBZ6QLV9rj9wbwEiuKQbQVrx_7pF-BP_vB62ZZ90B6stqck-Z8SHFK6VjuVZFSqI8T2tQpcTd7MYxhmzwE7wCji0nk7yri19PxyWQZnXfuEGnvuPs8F7OdiNeljldc7slhtU3F81_73NZoprriEbdzz4X59Gv1XIRBApk6KBo-HjY34dCwrQRjMlhnKrGuEa-b5ni4L_odVAyZjwysRUub7OfPoAMXhw8mFWNzxpEEc0Yy9hfKYjtjvI81K-naH8muhhC_1FxpJTm-Wd55ZI-KIFbSdkFqvPbzRr0rYQSUhHmJXuZNyE-pVFaA0iSyeaPogb_ORIFa1Orxr7DwlExAXkdpl3liPXDw7aC1GMbSv7Rwa4EWiEIqK2ajWdgBOhOMlnv8KY5lvvHMwJJTK1Z9xDgJhQ6b1uw3JNLt1XLXEPKoMKGE" href="https://www.facebook.com/orlandohealth?__cft__[0]=AZYvyLJRWMzBwLRuLehi5NORzAUbIuBg1Ob92sEPJQ-kvkAFlpL6XzG1_fmSIJtXVrL_NOPoLeB4Dhif6dAdHEYpYzVl4k_4Z3FuwuIVrWbZeWJzm9AO9GsjBUGy6yoZqetr111whkh-BVnhgfbSSdCPPuIYStpaC8IHeNWqg_YPLRTRWET4NMVdcriKNF306bo&amp;__tn__=-]K-R" role="link" tabindex="0">Orlando Health</a> <a attributionsrc="/privacy_sandbox/comet/register/source/?xt=AZYSmxuVyttuuosSQP8p1dpUflsXwEfn5nTIJxMN9hgSbiUxM8OwWD4r9Waj1LXtOGmhNKidqh9oK_rglP1tMR-6-BMnw7hrSSKd8MhjWb578k37aWnMf_KJ-FQydZI5Lu83d7X1FJ4EP1r8VGMSpKw_XnqkGMPTELk-5uwUhCnmhnqZcmuxY7glH7znTjMcldunV6_IsGS6YhMgnQB4ahf0K3swv_vFHcKL4B9Nw237Cuc5EFLd8rJSvRDibYvq42Mvu_kCs8IhD5J0_nOe9P5jegRrKBc5USGGtpPv6MrVmv-9AurO2-jlhbFH-14H7waoYEKAgtJF8D6l2SqSK9SRXJm0xkMGAGAGXzP_2DZf4woUlVAdfLS2jrbMvaoHE4g-Z3RRJiriRSzeZdQeFjUuRjaN_32Z_TdUeNNwzQMcsIV_U23EtLVkeb5qWsNBeeUQZn6UJS7oB54FnyWXLRL0YQrJ9_DrRFOuhdM_uwF039X3xvA9HLJbAPpHGBDeVed3zV8x2fDxmOE_J5mbUONuwOVWTtwjCiEewTOndWq1geRt5YwQhleP_KBobaMaBNxjYI2nlw5iSuvJ-f7wgxoDltsthqY6McEWnI8PhqZN7sCDdy1LfP2m2ZYS7114H0kgoFG8EYFumwG7dIRSpC3mtZg650qz8fHw3MvLuaAesnEy7VnJ8-lP-UM8eSTk1g3oMWm7yJvH1oh2z4KllJqD767QhL5J2pfAvnGq75B3LFMYgp_X8TweZYkDinMevv_89niITpuwmpIxRmd-owE3W-PVY47zQzT1RvDqkal4in0T1aqrqtmM-WlB6IH4BYt_TmiHBEPg3rJxYpj4G-YTxcLfi-VTfD9QLXLTtlUFiYsVOMfL4u6qgHWN1-5aZ_lhRLazYhycFGzyyGr8s65p0cRgFDcwQWvxjDzFQ8AQ5qxx9TFi-UMLHy5_hx4svi5cOPcv7d17QTKBIoocR5sEEepdzD6pmEEgFbmCuTkIakDsex-WHs6EjSARGSqYyZ8pUMra75bLymV3NccjlrOhSDhAPnMQkFu9JTKpenbZreBXn2zBgvnEGYZ_fQG6phIFAFrDXDIF5M2Vj_ocDzrJAq9n99sxDPMKZuBt3HdTEsR-GWh646o_Yz9srsAra9tyLEBrAQaeNAVYVUSBsfBPZ7Ax5c81nN0cleXzm8gPpT471FZlNdHw6QC-b15ZgcwoQiWYdhz70rFgTEwtluOzJpzRr24rO4T1CRLPE8K2EbixvLeOhfN49OqyleH_y7OBRoHXMhalsDXzI03y3FUNkxba2-Dimfbo3TIMcHxhhM9TSFVab23jhuZUq7B5wO7sHvYs_bO_2aNeCO1ows99EmIf9M3Iwr-Nn5Dbj9DIRrPbD0TZKZTQGZrv_o95wD0LHvE1e12YjA6c7m8TUuApsJJQALrFpMFjNI8BnlreLuiLbJR24Bj9addk20ZNhMcPWokOYrYqq-XGyUb9s-vMxZlmuoR1suxPWvxsjHgyrom3Cma8qGNzZo-WkAuhRpRVo9cP6lrWdsBYUoBZ6QLV9rj9wbwEiuKQbQVrx_7pF-BP_vB62ZZ90B6stqck-Z8SHFK6VjuVZFSqI8T2tQpcTd7MYxhmzwE7wCji0nk7yri19PxyWQZnXfuEGnvuPs8F7OdiNeljldc7slhtU3F81_73NZoprriEbdzz4X59Gv1XIRBApk6KBo-HjY34dCwrQRjMlhnKrGuEa-b5ni4L_odVAyZjwysRUub7OfPoAMXhw8mFWNzxpEEc0Yy9hfKYjtjvI81K-naH8muhhC_1FxpJTm-Wd55ZI-KIFbSdkFqvPbzRr0rYQSUhHmJXuZNyE-pVFaA0iSyeaPogb_ORIFa1Orxr7DwlExAXkdpl3liPXDw7aC1GMbSv7Rwa4EWiEIqK2ajWdgBOhOMlnv8KY5lvvHMwJJTK1Z9xDgJhQ6b1uw3JNLt1XLXEPKoMKGE" href="https://www.facebook.com/watsonclinicfl?__cft__[0]=AZYvyLJRWMzBwLRuLehi5NORzAUbIuBg1Ob92sEPJQ-kvkAFlpL6XzG1_fmSIJtXVrL_NOPoLeB4Dhif6dAdHEYpYzVl4k_4Z3FuwuIVrWbZeWJzm9AO9GsjBUGy6yoZqetr111whkh-BVnhgfbSSdCPPuIYStpaC8IHeNWqg_YPLRTRWET4NMVdcriKNF306bo&amp;__tn__=-]K-R" role="link" tabindex="0">Watson Clinic</a> RN Hiring Event!&nbsp;Saturday, March 7th,&nbsp;8 a.m. - 12 p.m.&nbsp;&nbsp;Polk State College - Lakeland Campus.&nbsp;&nbsp;This event is designed exclusively for registered nurses with at least one year of experience.&nbsp;&nbsp;See the <a href="https://www.chamberorganizer.com/hainescitynepolkcounty/docs/RN_Hiring_Event_Flyer-page-0.jpg"><u><strong>flyer </strong></u></a>for additional details.<br />Location:<br />Polk State College Lakeland Campus<br />3425 Winter Lake Road<br />Lakeland, FL 33803
PRIORITY:3
TRANSP:TRANSPARENT
BEGIN:VALARM
TRIGGER:-PT5M
ACTION:DISPLAY
DESCRIPTION:Reminder
END:VALARM
END:VEVENT
END:VCALENDAR
