BEGIN:VCALENDAR
VERSION:2.0
CALSCALE:GREGORIAN
METHOD:PUBLISH
PRODID://HAIN//1415902
BEGIN:VEVENT
DTSTAMP:20260422T041600
VTIMEZONE:America/New_York
DTSTART:20260307T210000Z
DTEND:20260308T000000Z
UID:1415902
SUMMARY:"Give to Gain: Women Building Resilient Business Event" presented by SCORE Mentors
LOCATION:CoHatch Lakeland, 211 E Main Street, Lakeland, FL, 33801
DESCRIPTION:"Give to Gain: Women Building Resilient Business Event" presented by SCORE Mentors\n\n03/07/26 04:00 PM EST\n - 03/07/26 07:00 PM EST\Details:\nYou're invited to "Give to Gain: Women Building Resilient Business Event" presented by SCORE Mentors!  Join Nora. Magazine and SCORE Central Florida for an evening built for women who are done doing business alone.  March 7, 2026, 4:00pm, Free to attend- CoHatch Lakeland, 211 E Main St., Lakeland, Florida 33801.  More info & register online at: https://www.score.org/.../give-gain-women-building...\Location:\nCoHatch Lakeland\n211 E Main Street\nLakeland, FL 33801
X-ALT-DESC;FMTTYPE=text/html:"Give to Gain: Women Building Resilient Business Event" presented by SCORE Mentors<br /><br />03/07/26 04:00 PM EST - 03/07/26 07:00 PM EST<br />Details:<br />You're invited to &quot;Give to Gain: Women Building Resilient Business Event&quot; presented by <a attributionsrc="/privacy_sandbox/comet/register/source/?xt=AZbgNhE0DHVmRfg9aN2iaOlyybOeLhCsp0iEM0DrIENiXUIEgub13pIyg9vSpQYzN8SzAlx74XbGip02QO5Ntyii9giRvCK4mgTCkHq7ty5spCQhJYIF2Wz7jAhfvo8K5q3U_IkBPBo0NtjOxIao9vO0EM_f8RwBl1gm68d2zen0qVK_8YxtqV-lzKYIFj-feFlK6imwWOZRhbhsh--n0cDFMOQryEvxmdrMfxlkis1hOVDeBHPOQ8goducl77Q0-_gVKaBrgJx20Ol__JQWSJnJI1f7Az-sbCxko2yKb_apCk7iPTh5b26eb2BcfyMEncFEHd4BYDFm-3eI9sHUxyhVrCx-uGQ6-m1cy1HinPPPdjIXB7ovBp1Cl_9RKbB9_1ZJOcNS_xXDRRPY_qbovKiz82M7TmA_R48hJiec5FiQJeYyCDommQkwIgNcShq85IQhxkxn9JUNRxKVoF-glzUIMuQlIgda8VyHmHLR7z3b6Cwqb8xQrFybjR_pxKkfD3f8Ju1i6yThiFvbmtUxZzOP7vrIrJl7jSNleAVz5tnfMyWkw1POxILXXtYp44_P9pT5LBB0VEJIrAw69pA7soEiVArCSrb40J0tTL0S2_fij3XZw4J95Q8DLyh-pN_IzcfRhUSs3wLGZDckLMz92PGC6zM2c8KmfN7XPM8eTg713HXYfMZY-_H4_UGUOGY2L6ZRFyAwiABLonm7bavH8eE4OyMUq-U2ZRcPkAPhoHEL6uC4-Pxsw0Xpum3G33zEl9rfsly5AKDlqk2MtKy08nH7wdP5vddfAVYdBiCl1znphcy_QmfTPoYOpOPjqwRfcLo5is2rT_O52IyXivhuwSexYMS1yLtynUFPrp0RLz8TniNQCG2EHO1R0DTgC_KY9kMkxNVt4CSo5x5m36_pOERoimBVrngFYyW4t7NIxUCh_kI09amYtRBYNXpR4UUWhW27NmdOlrqyqD5Uq21PVs_SfITKKmD5tw0IOIBy-LfQ3Bq6Z51QhjhZ-CUuRQjJl2J8FM3oe--JPID5VVQAVVVb5Hn0ZR1x4RsItIuuEYIPrxRu_t5OecerShXReF3ACGCAExpnx8KY9yy0nd6gs9Z8LkCYjoaWuzV3Lg9JnALTmnh6G_HjcweNdm_2r5gpuxeWh3Q-75AA9kvkRICOdLjjENxa72D9kdc6pM_WPUmGslnqzFwZOUZ_DqLE_a35h39FRLDdDEx4O_cspqP2GZujVcdrPohhf5TY1dlZqzBgNkMGQQt7hKVT83_WowI7kK3AQcQ2I-H3K8AyVUyK-UePeMQDhO_Lk9TqYO56yDBIf4gp-6qv0bmGJCzi6pNE8cykEc9Bv7PN3dOzYLfVfileXj9w4XlKce4zNTTXgSKyZIfxSKb3sP9fxBIuoMxs1VU" href="https://www.facebook.com/SCORECentralFlorida?__cft__[0]=AZZBzfFtN8kUTgN3Ge7sC4anHubE-tcsffwlMssJ8aSzfQu9TDdK0lqDq61gkK7qtog4EgG9t05Uj2_OTIm4CQo32Z_qp3BJSzvMmG1Gyj02PUw1Td7Uo7oaws3BvKvGaufWIvoeGQ5jH3YXuZqEEOmi&amp;__tn__=-]K-R" role="link" tabindex="0" target="_blank">SCORE Mentors</a>!&nbsp;&nbsp;Join Nora. Magazine and SCORE Central Florida for an evening built for women who are done doing business alone.&nbsp;&nbsp;March 7, 2026,&nbsp;4:00pm,&nbsp;Free to attend-&nbsp;CoHatch Lakeland, 211 E Main St., Lakeland, Florida 33801.&nbsp;&nbsp;More info &amp; register online at: <a attributionsrc="/privacy_sandbox/comet/register/source/?xt=AZbgNhE0DHVmRfg9aN2iaOlyybOeLhCsp0iEM0DrIENiXUIEgub13pIyg9vSpQYzN8SzAlx74XbGip02QO5Ntyii9giRvCK4mgTCkHq7ty5spCQhJYIF2Wz7jAhfvo8K5q3U_IkBPBo0NtjOxIao9vO0EM_f8RwBl1gm68d2zen0qVK_8YxtqV-lzKYIFj-feFlK6imwWOZRhbhsh--n0cDFMOQryEvxmdrMfxlkis1hOVDeBHPOQ8goducl77Q0-_gVKaBrgJx20Ol__JQWSJnJI1f7Az-sbCxko2yKb_apCk7iPTh5b26eb2BcfyMEncFEHd4BYDFm-3eI9sHUxyhVrCx-uGQ6-m1cy1HinPPPdjIXB7ovBp1Cl_9RKbB9_1ZJOcNS_xXDRRPY_qbovKiz82M7TmA_R48hJiec5FiQJeYyCDommQkwIgNcShq85IQhxkxn9JUNRxKVoF-glzUIMuQlIgda8VyHmHLR7z3b6Cwqb8xQrFybjR_pxKkfD3f8Ju1i6yThiFvbmtUxZzOP7vrIrJl7jSNleAVz5tnfMyWkw1POxILXXtYp44_P9pT5LBB0VEJIrAw69pA7soEiVArCSrb40J0tTL0S2_fij3XZw4J95Q8DLyh-pN_IzcfRhUSs3wLGZDckLMz92PGC6zM2c8KmfN7XPM8eTg713HXYfMZY-_H4_UGUOGY2L6ZRFyAwiABLonm7bavH8eE4OyMUq-U2ZRcPkAPhoHEL6uC4-Pxsw0Xpum3G33zEl9rfsly5AKDlqk2MtKy08nH7wdP5vddfAVYdBiCl1znphcy_QmfTPoYOpOPjqwRfcLo5is2rT_O52IyXivhuwSexYMS1yLtynUFPrp0RLz8TniNQCG2EHO1R0DTgC_KY9kMkxNVt4CSo5x5m36_pOERoimBVrngFYyW4t7NIxUCh_kI09amYtRBYNXpR4UUWhW27NmdOlrqyqD5Uq21PVs_SfITKKmD5tw0IOIBy-LfQ3Bq6Z51QhjhZ-CUuRQjJl2J8FM3oe--JPID5VVQAVVVb5Hn0ZR1x4RsItIuuEYIPrxRu_t5OecerShXReF3ACGCAExpnx8KY9yy0nd6gs9Z8LkCYjoaWuzV3Lg9JnALTmnh6G_HjcweNdm_2r5gpuxeWh3Q-75AA9kvkRICOdLjjENxa72D9kdc6pM_WPUmGslnqzFwZOUZ_DqLE_a35h39FRLDdDEx4O_cspqP2GZujVcdrPohhf5TY1dlZqzBgNkMGQQt7hKVT83_WowI7kK3AQcQ2I-H3K8AyVUyK-UePeMQDhO_Lk9TqYO56yDBIf4gp-6qv0bmGJCzi6pNE8cykEc9Bv7PN3dOzYLfVfileXj9w4XlKce4zNTTXgSKyZIfxSKb3sP9fxBIuoMxs1VU" href="https://www.score.org/centralflorida/event/give-gain-women-building-resilient-businesses?fbclid=IwZXh0bgNhZW0CMTAAYnJpZBExdEJNaFhZUGZpMjQyVFpxdHNydGMGYXBwX2lkDzUxNDc3MTU2OTIyODA2MQABHlDxlCSlzWxcQAOBQvPOFzo003TQo50Wl55zz91CfvkOxjrbSLH6eDf12JVj_aem_4mJWTk2RArsH-3dlFJ3GJw" rel="nofollow noreferrer" role="link" tabindex="0" target="_blank">https://www.score.org/.../give-gain-women-building...</a><br />Location:<br />CoHatch Lakeland<br />211 E Main Street<br />Lakeland, FL 33801
PRIORITY:3
TRANSP:TRANSPARENT
BEGIN:VALARM
TRIGGER:-PT5M
ACTION:DISPLAY
DESCRIPTION:Reminder
END:VALARM
END:VEVENT
END:VCALENDAR
