BEGIN:VCALENDAR
VERSION:2.0
CALSCALE:GREGORIAN
METHOD:PUBLISH
PRODID://AFFT//1415910
BEGIN:VEVENT
DTSTAMP:20260423T073540
VTIMEZONE:America/Chicago
DTSTART:20260307T160000Z
DTEND:20260307T170000Z
UID:1415910
SUMMARY:Ranger Talk: The Women of White Haven
LOCATION:Ulysses S. Grant National Historic Site , 7400 Grant Road, St. Louis, MO, 63123
DESCRIPTION:Ranger Talk: The Women of White Haven\n\n03/07/26 10:00 AM CST\n - 03/07/26 11:00 AM CST\Description:\nWhite Haven was home to one of the most famous men of the 19th century, but it was also shaped by the lives of many remarkable women who made or witnessed history in their own right. Park Guide Evan Meyer will explore The Women of White Haven, from Julia Dent Grant and her sisters to the enslaved women who quietly kept the home and farm running.\n\nThe program is free. Call 314-842-1867 ext. 230 for reservations.\Details:\nThis program is free. Call 314-842-1867 ext. 230 for reservations. \Location:\nUlysses S. Grant National Historic Site \n7400 Grant Road\nSt. Louis, MO 63123
X-ALT-DESC;FMTTYPE=text/html:Ranger Talk: The Women of White Haven<br /><br />03/07/26 10:00 AM CST - 03/07/26 11:00 AM CST<br />Description:<br />White Haven was home to one of the most famous men of the 19th century, but it was also shaped by the lives of many remarkable women who made or witnessed history in their own right. Park Guide Evan Meyer will explore The Women of White Haven, from Julia Dent Grant and her sisters to the enslaved women who quietly kept the home and farm running.<br />
<br />
The program is free. Call 314-842-1867 ext. 230 for reservations.<br />Details:<br />This program is free. Call 314-842-1867 ext. 230 for reservations.&nbsp;<br />Location:<br />Ulysses S. Grant National Historic Site <br />7400 Grant Road<br />St. Louis, MO 63123
PRIORITY:3
TRANSP:TRANSPARENT
BEGIN:VALARM
TRIGGER:-PT5M
ACTION:DISPLAY
DESCRIPTION:Reminder
END:VALARM
END:VEVENT
END:VCALENDAR
