BEGIN:VCALENDAR
VERSION:2.0
CALSCALE:GREGORIAN
METHOD:PUBLISH
PRODID://GFCC//1415912
BEGIN:VEVENT
DTSTAMP:20260424T083111
VTIMEZONE:America/Chicago
DTSTART:20260304T110000Z
DTEND:20260305T020000Z
UID:1415912
SUMMARY:National Cold Foam Day
LOCATION:Scooterâ€™s Coffee, 915 Veterans Ave. Suite B., Vandalia, IL, 62471
DESCRIPTION:National Cold Foam Day\n\n03/04/26 05:00 AM CST\n - 03/04/26 08:00 PM CST\Description:\nReceive a cold foam sticker with purchase on Wednesday 3/4.\Details:\nReceive a cold foam sticker with purchase on Wednesday 3/4.\Location:\nScooterâ€™s Coffee\n915 Veterans Ave. Suite B.\nVandalia, IL 62471
X-ALT-DESC;FMTTYPE=text/html:National Cold Foam Day<br /><br />03/04/26 05:00 AM CST - 03/04/26 08:00 PM CST<br />Description:<br />Receive a cold foam sticker with purchase on Wednesday 3/4.<br />Details:<br />Receive a cold foam sticker with purchase on Wednesday 3/4.<br />Location:<br />Scooterâ€™s Coffee<br />915 Veterans Ave. Suite B.<br />Vandalia, IL 62471
PRIORITY:3
TRANSP:TRANSPARENT
BEGIN:VALARM
TRIGGER:-PT5M
ACTION:DISPLAY
DESCRIPTION:Reminder
END:VALARM
END:VEVENT
END:VCALENDAR
