BEGIN:VCALENDAR
VERSION:2.0
CALSCALE:GREGORIAN
METHOD:PUBLISH
PRODID://HAIN//1415983
BEGIN:VEVENT
DTSTAMP:20260420T054946
VTIMEZONE:America/New_York
DTSTART:20260323T220000Z
DTEND:20260324T000000Z
UID:1415983
SUMMARY:Candidate Forum for the Town of Lake Hamilton
LOCATION:Town of Lake Hamilton , 100 Smith Ave., Lake Hamilton, FL, 33851
DESCRIPTION:Candidate Forum for the Town of Lake Hamilton\n\n03/23/26 06:00 PM EST\n - 03/23/26 08:00 PM EST\Details:\nJoin us for a Candidate Forum the Town of Lake Hamilton Town Council Seat 1 & Seat 3 - Monday, March 23rd, 6 - 8 p.m. at Lake Hamilton Town Hall, 100 Smith Ave., Lake Hamilton, FL  33851\n\nHear from the Candidates:  Seat 1:  John E. Deshane Jr., Marisol Ortega\nSeat 3:  Joshua Collier, Cora Perry Roberson\n\nClick HERE for the flyer and more info.  \Location:\nTown of Lake Hamilton \n100 Smith Ave.\nLake Hamilton, FL 33851
X-ALT-DESC;FMTTYPE=text/html:Candidate Forum for the Town of Lake Hamilton<br /><br />03/23/26 06:00 PM EST - 03/23/26 08:00 PM EST<br />Details:<br />Join us for a Candidate Forum the Town of Lake Hamilton Town Council&nbsp;Seat 1 &amp; Seat 3 - Monday, March 23rd, 6 - 8 p.m. at Lake Hamilton Town Hall, 100 Smith Ave., Lake Hamilton, FL&nbsp; 33851<br />
<br />
Hear from the Candidates:&nbsp; Seat 1:&nbsp; John E. Deshane Jr., Marisol Ortega<br />
Seat 3:&nbsp; Joshua Collier, Cora Perry Roberson<br />
<br />
Click <a href="https://www.chamberorganizer.com/hainescitynepolkcounty/docs/2026_CityTown_Candidate_Forum_flyers_1.png"><u><strong>HERE&nbsp;</strong></u></a>for the flyer and more info.&nbsp;&nbsp;<br />Location:<br />Town of Lake Hamilton <br />100 Smith Ave.<br />Lake Hamilton, FL 33851
PRIORITY:3
TRANSP:TRANSPARENT
BEGIN:VALARM
TRIGGER:-PT5M
ACTION:DISPLAY
DESCRIPTION:Reminder
END:VALARM
END:VEVENT
END:VCALENDAR
