BEGIN:VCALENDAR
VERSION:2.0
CALSCALE:GREGORIAN
METHOD:PUBLISH
PRODID://WEHO//1416237
BEGIN:VEVENT
DTSTAMP:20260424T090017
VTIMEZONE:America/Los_Angeles
DTSTART:20260318T230000Z
DTEND:20260319T010000Z
UID:1416237
SUMMARY:West Hollywood Design District Board Meeting
LOCATION:, CA
DESCRIPTION:West Hollywood Design District Board Meeting\n\n03/18/26 04:00 PM PST\n - 03/18/26 06:00 PM PST
X-ALT-DESC;FMTTYPE=text/html:West Hollywood Design District Board Meeting<br /><br />03/18/26 04:00 PM PST - 03/18/26 06:00 PM PST
PRIORITY:3
TRANSP:TRANSPARENT
BEGIN:VALARM
TRIGGER:-PT5M
ACTION:DISPLAY
DESCRIPTION:Reminder
END:VALARM
END:VEVENT
END:VCALENDAR
