BEGIN:VCALENDAR
VERSION:2.0
CALSCALE:GREGORIAN
METHOD:PUBLISH
PRODID://WEHO//1416238
BEGIN:VEVENT
DTSTAMP:20260424T090016
VTIMEZONE:America/Los_Angeles
DTSTART:20260403T170000Z
DTEND:20260403T183000Z
UID:1416238
SUMMARY:First Friday All Business Meeting
LOCATION:, CA
DESCRIPTION:First Friday All Business Meeting\n\n04/03/26 10:00 AM PST\n - 04/03/26 11:30 AM PST
X-ALT-DESC;FMTTYPE=text/html:First Friday All Business Meeting<br /><br />04/03/26 10:00 AM PST - 04/03/26 11:30 AM PST
PRIORITY:3
TRANSP:TRANSPARENT
BEGIN:VALARM
TRIGGER:-PT5M
ACTION:DISPLAY
DESCRIPTION:Reminder
END:VALARM
END:VEVENT
END:VCALENDAR
