BEGIN:VCALENDAR
VERSION:2.0
CALSCALE:GREGORIAN
METHOD:PUBLISH
PRODID://WEHO//1416241
BEGIN:VEVENT
DTSTAMP:20260424T090039
VTIMEZONE:America/Los_Angeles
DTSTART:20260409T190000Z
DTEND:20260409T203000Z
UID:1416241
SUMMARY:Legends of Sunset Meeting
LOCATION:, CA
DESCRIPTION:Legends of Sunset Meeting\n\n04/09/26 12:00 PM PST\n - 04/09/26 01:30 PM PST
X-ALT-DESC;FMTTYPE=text/html:Legends of Sunset Meeting<br /><br />04/09/26 12:00 PM PST - 04/09/26 01:30 PM PST
PRIORITY:3
TRANSP:TRANSPARENT
BEGIN:VALARM
TRIGGER:-PT5M
ACTION:DISPLAY
DESCRIPTION:Reminder
END:VALARM
END:VEVENT
END:VCALENDAR
