BEGIN:VCALENDAR
VERSION:2.0
CALSCALE:GREGORIAN
METHOD:PUBLISH
PRODID://WEHO//1416242
BEGIN:VEVENT
DTSTAMP:20260424T090017
VTIMEZONE:America/Los_Angeles
DTSTART:20260414T230000Z
DTEND:20260415T003000Z
UID:1416242
SUMMARY:Government Affairs Committee Meeting
LOCATION:, CA
DESCRIPTION:Government Affairs Committee Meeting\n\n04/14/26 04:00 PM PST\n - 04/14/26 05:30 PM PST
X-ALT-DESC;FMTTYPE=text/html:Government Affairs Committee Meeting<br /><br />04/14/26 04:00 PM PST - 04/14/26 05:30 PM PST
PRIORITY:3
TRANSP:TRANSPARENT
BEGIN:VALARM
TRIGGER:-PT5M
ACTION:DISPLAY
DESCRIPTION:Reminder
END:VALARM
END:VEVENT
END:VCALENDAR
