BEGIN:VCALENDAR
VERSION:2.0
CALSCALE:GREGORIAN
METHOD:PUBLISH
PRODID://WEHO//1416243
BEGIN:VEVENT
DTSTAMP:20260424T090039
VTIMEZONE:America/Los_Angeles
DTSTART:20260415T230000Z
DTEND:20260416T010000Z
UID:1416243
SUMMARY:West Hollywood Design District Board Meeting
LOCATION:, CA
DESCRIPTION:West Hollywood Design District Board Meeting\n\n04/15/26 04:00 PM PST\n - 04/15/26 06:00 PM PST
X-ALT-DESC;FMTTYPE=text/html:West Hollywood Design District Board Meeting<br /><br />04/15/26 04:00 PM PST - 04/15/26 06:00 PM PST
PRIORITY:3
TRANSP:TRANSPARENT
BEGIN:VALARM
TRIGGER:-PT5M
ACTION:DISPLAY
DESCRIPTION:Reminder
END:VALARM
END:VEVENT
END:VCALENDAR
