BEGIN:VCALENDAR
VERSION:2.0
CALSCALE:GREGORIAN
METHOD:PUBLISH
PRODID://WEHO//1416244
BEGIN:VEVENT
DTSTAMP:20260424T090039
VTIMEZONE:America/Los_Angeles
DTSTART:20260420T203000Z
DTEND:20260420T220000Z
UID:1416244
SUMMARY:Sunset Strip BID Board Meeting
LOCATION:, CA
DESCRIPTION:Sunset Strip BID Board Meeting\n\n04/20/26 01:30 PM PST\n - 04/20/26 03:00 PM PST
X-ALT-DESC;FMTTYPE=text/html:Sunset Strip BID Board Meeting<br /><br />04/20/26 01:30 PM PST - 04/20/26 03:00 PM PST
PRIORITY:3
TRANSP:TRANSPARENT
BEGIN:VALARM
TRIGGER:-PT5M
ACTION:DISPLAY
DESCRIPTION:Reminder
END:VALARM
END:VEVENT
END:VCALENDAR
