BEGIN:VCALENDAR
VERSION:2.0
CALSCALE:GREGORIAN
METHOD:PUBLISH
PRODID://WEHO//1416248
BEGIN:VEVENT
DTSTAMP:20260424T075652
VTIMEZONE:America/Los_Angeles
DTSTART:20260507T190000Z
DTEND:20260507T203000Z
UID:1416248
SUMMARY:Legends of Sunset Meeting
LOCATION:, CA
DESCRIPTION:Legends of Sunset Meeting\n\n05/07/26 12:00 PM PST\n - 05/07/26 01:30 PM PST
X-ALT-DESC;FMTTYPE=text/html:Legends of Sunset Meeting<br /><br />05/07/26 12:00 PM PST - 05/07/26 01:30 PM PST
PRIORITY:3
TRANSP:TRANSPARENT
BEGIN:VALARM
TRIGGER:-PT5M
ACTION:DISPLAY
DESCRIPTION:Reminder
END:VALARM
END:VEVENT
END:VCALENDAR
