BEGIN:VCALENDAR
VERSION:2.0
CALSCALE:GREGORIAN
METHOD:PUBLISH
PRODID://WEHO//1416249
BEGIN:VEVENT
DTSTAMP:20260424T075554
VTIMEZONE:America/Los_Angeles
DTSTART:20260512T230000Z
DTEND:20260513T010000Z
UID:1416249
SUMMARY:Government Affairs Committee Meeting
LOCATION:, CA
DESCRIPTION:Government Affairs Committee Meeting\n\n05/12/26 04:00 PM PST\n - 05/12/26 06:00 PM PST
X-ALT-DESC;FMTTYPE=text/html:Government Affairs Committee Meeting<br /><br />05/12/26 04:00 PM PST - 05/12/26 06:00 PM PST
PRIORITY:3
TRANSP:TRANSPARENT
BEGIN:VALARM
TRIGGER:-PT5M
ACTION:DISPLAY
DESCRIPTION:Reminder
END:VALARM
END:VEVENT
END:VCALENDAR
