BEGIN:VCALENDAR
VERSION:2.0
CALSCALE:GREGORIAN
METHOD:PUBLISH
PRODID://WEHO//1416251
BEGIN:VEVENT
DTSTAMP:20260424T075042
VTIMEZONE:America/Los_Angeles
DTSTART:20260519T190000Z
DTEND:20260519T210000Z
UID:1416251
SUMMARY:WHCC Board of Directors Meeting
LOCATION:, CA
DESCRIPTION:WHCC Board of Directors Meeting\n\n05/19/26 12:00 PM PST\n - 05/19/26 02:00 PM PST
X-ALT-DESC;FMTTYPE=text/html:WHCC Board of Directors Meeting<br /><br />05/19/26 12:00 PM PST - 05/19/26 02:00 PM PST
PRIORITY:3
TRANSP:TRANSPARENT
BEGIN:VALARM
TRIGGER:-PT5M
ACTION:DISPLAY
DESCRIPTION:Reminder
END:VALARM
END:VEVENT
END:VCALENDAR
