BEGIN:VCALENDAR
VERSION:2.0
CALSCALE:GREGORIAN
METHOD:PUBLISH
PRODID://WEHO//1416252
BEGIN:VEVENT
DTSTAMP:20260424T075042
VTIMEZONE:America/Los_Angeles
DTSTART:20260521T230000Z
DTEND:20260522T010000Z
UID:1416252
SUMMARY:West Hollywood Design District Board Meeting
LOCATION:, CA
DESCRIPTION:West Hollywood Design District Board Meeting\n\n05/21/26 04:00 PM PST\n - 05/21/26 06:00 PM PST
X-ALT-DESC;FMTTYPE=text/html:West Hollywood Design District Board Meeting<br /><br />05/21/26 04:00 PM PST - 05/21/26 06:00 PM PST
PRIORITY:3
TRANSP:TRANSPARENT
BEGIN:VALARM
TRIGGER:-PT5M
ACTION:DISPLAY
DESCRIPTION:Reminder
END:VALARM
END:VEVENT
END:VCALENDAR
