BEGIN:VCALENDAR
VERSION:2.0
CALSCALE:GREGORIAN
METHOD:PUBLISH
PRODID://WEHO//1416253
BEGIN:VEVENT
DTSTAMP:20260424T090018
VTIMEZONE:America/Los_Angeles
DTSTART:20260525T160000Z
DTEND:20260526T010000Z
UID:1416253
SUMMARY:Memorial Day - CHAMBER CLOSED
LOCATION:, CA
DESCRIPTION:Memorial Day - CHAMBER CLOSED\n\n05/25/26 09:00 AM PST\n - 05/25/26 06:00 PM PST
X-ALT-DESC;FMTTYPE=text/html:Memorial Day - CHAMBER CLOSED<br /><br />05/25/26 09:00 AM PST - 05/25/26 06:00 PM PST
PRIORITY:3
TRANSP:TRANSPARENT
BEGIN:VALARM
TRIGGER:-PT5M
ACTION:DISPLAY
DESCRIPTION:Reminder
END:VALARM
END:VEVENT
END:VCALENDAR
