BEGIN:VCALENDAR
VERSION:2.0
CALSCALE:GREGORIAN
METHOD:PUBLISH
PRODID://OCON//1416652
BEGIN:VEVENT
DTSTAMP:20260424T152501
VTIMEZONE:America/New_York
DTSTART:20260911T130000Z
DTEND:20260911T193000Z
UID:1416652
SUMMARY:Oconee Chamber Kickball Tournament
LOCATION:ESP, 189 VFW Drive, Watkinsville, GA, 30677
DESCRIPTION:Oconee Chamber Kickball Tournament\n\n09/11/26 09:00 AM EST\n - 09/11/26 03:30 PM EST\Location:\nESP\n189 VFW Drive\nWatkinsville, GA 30677
X-ALT-DESC;FMTTYPE=text/html:Oconee Chamber Kickball Tournament<br /><br />09/11/26 09:00 AM EST - 09/11/26 03:30 PM EST<br />Location:<br />ESP<br />189 VFW Drive<br />Watkinsville, GA 30677
PRIORITY:3
TRANSP:TRANSPARENT
BEGIN:VALARM
TRIGGER:-PT5M
ACTION:DISPLAY
DESCRIPTION:Reminder
END:VALARM
END:VEVENT
END:VCALENDAR
