BEGIN:VCALENDAR
VERSION:2.0
CALSCALE:GREGORIAN
METHOD:PUBLISH
PRODID://HAIN//1416734
BEGIN:VEVENT
DTSTAMP:20260422T041605
VTIMEZONE:America/New_York
DTSTART:20260404T140000Z
DTEND:20260404T170000Z
UID:1416734
SUMMARY:Polk County Sheriff's Office First Annual Hoppin' With Ridge Heroes
LOCATION:Polk County Sheriff's Ridge District Office, 9530 Marigold Avenue, Poinciana, FL, 34759
DESCRIPTION:Polk County Sheriff's Office First Annual Hoppin' With Ridge Heroes\n\n04/04/26 10:00 AM EST\n - 04/04/26 01:00 PM EST\Details:\nIt's the Polk County Sheriff's Office Ridge District Command's first-ever Easter-themed "Hoppin' With Ridge Heroes" event, located at the PCSO's newest patrol district in Poinciana! Hop on over from 10 AM to 1 PM on Saturday, April 4th, for an Easter egg hunt, scavenger hunt, arts & crafts, face painting, cookie decorating, and food trucks!  Polk County Animal Control will also be there with cats and dogs ready for adoption! Find your fur-ever friend.  We'll see you at the Ridge District, 9530 Marigold Avenue, Poinciana.  Click HERE for the flyer.\n \Location:\nPolk County Sheriff's Ridge District Office\n9530 Marigold Avenue\nPoinciana, FL 34759
X-ALT-DESC;FMTTYPE=text/html:Polk County Sheriff's Office First Annual Hoppin' With Ridge Heroes<br /><br />04/04/26 10:00 AM EST - 04/04/26 01:00 PM EST<br />Details:<br />It's the Polk County Sheriff's Office Ridge District Command's first-ever Easter-themed &quot;Hoppin' With Ridge Heroes&quot; event, located at the PCSO's newest patrol district in Poinciana! Hop on over from 10 AM to 1 PM on Saturday, April 4th, for an Easter egg hunt, scavenger hunt, arts &amp; crafts, face painting, cookie decorating, and food trucks!&nbsp;&nbsp;Polk County Animal Control will also be there with cats and dogs ready for adoption! Find your fur-ever friend.&nbsp;&nbsp;We'll see you at the Ridge District, 9530 Marigold Avenue, Poinciana.&nbsp; Click <a href="https://www.chamberorganizer.com/hainescitynepolkcounty/docs/hoppin_with_ridge_heroes_Version_3_1.png"><u><strong>HERE </strong></u></a>for the flyer.<br />
&nbsp;<br />Location:<br />Polk County Sheriff's Ridge District Office<br />9530 Marigold Avenue<br />Poinciana, FL 34759
PRIORITY:3
TRANSP:TRANSPARENT
BEGIN:VALARM
TRIGGER:-PT5M
ACTION:DISPLAY
DESCRIPTION:Reminder
END:VALARM
END:VEVENT
END:VCALENDAR
