BEGIN:VCALENDAR
VERSION:2.0
CALSCALE:GREGORIAN
METHOD:PUBLISH
PRODID://HAIN//1416753
BEGIN:VEVENT
DTSTAMP:20260420T040147
VTIMEZONE:America/New_York
DTSTART:20260606T130000Z
DTEND:20260606T170000Z
UID:1416753
SUMMARY:Early Learning Coalition of Polk County's 6th Annual Family Fun Day
LOCATION:The YMCA, 115 S Missouri Ave., Lakeland, FL, 33815
DESCRIPTION:Early Learning Coalition of Polk County's 6th Annual Family Fun Day\n\n06/06/26 09:00 AM EST\n - 06/06/26 01:00 PM EST\Details:\nSave the Date:  Early Learning Coalition of Polk County's 6th Annual Family Fun Day - Saturday, June 6th, 9 a.m. -1 p.m., The YMCA, 115 S Missouri Ave., Lakeland, FL  33815.  Free Food, Fun Activities, Free Gifts & More.  Click HERE for the flyer.  \Location:\nThe YMCA\n115 S Missouri Ave.\nLakeland, FL 33815
X-ALT-DESC;FMTTYPE=text/html:Early Learning Coalition of Polk County's 6th Annual Family Fun Day<br /><br />06/06/26 09:00 AM EST - 06/06/26 01:00 PM EST<br />Details:<br />Save the Date:&nbsp; Early Learning Coalition of Polk County's 6th Annual Family Fun Day - Saturday, June 6th, 9 a.m. -1 p.m., The YMCA, 115 S Missouri Ave., Lakeland, FL&nbsp; 33815.&nbsp; Free Food, Fun Activities, Free Gifts &amp; More.&nbsp; Click <a href="https://www.chamberorganizer.com/hainescitynepolkcounty/docs/Family_Fun_Date_ELC_Polk.png"><u><strong>HERE </strong></u></a>for the flyer.&nbsp;&nbsp;<br />Location:<br />The YMCA<br />115 S Missouri Ave.<br />Lakeland, FL 33815
PRIORITY:3
TRANSP:TRANSPARENT
BEGIN:VALARM
TRIGGER:-PT5M
ACTION:DISPLAY
DESCRIPTION:Reminder
END:VALARM
END:VEVENT
END:VCALENDAR
