BEGIN:VCALENDAR
VERSION:2.0
CALSCALE:GREGORIAN
METHOD:PUBLISH
PRODID://HMLT//1416815
BEGIN:VEVENT
DTSTAMP:20260424T072416
VTIMEZONE:America/Chicago
DTSTART:20260516T123000Z
DTEND:20260516T210000Z
UID:1416815
SUMMARY:4th Annual Doubles Disc Golf Tournament Fundraiser
LOCATION:Fox Prairie Disc Golf Course, 7542 Golf Course Road, McLeansboro, IL, 62859
DESCRIPTION:4th Annual Doubles Disc Golf Tournament Fundraiser\n\n05/16/26 07:30 AM CST\n - 05/16/26 04:00 PM CST\Description:\nThe Hamilton County Chamber of Commerce along with Fox Prairie Disc Golf Club, are presenting:\nThe 4th Annual Doubles Disc Golf Tournament Fundraiser!\n \nThe doubles fundraiser is happening once again at Fox Prairie! Choose your partner wisely, then come out and join us for one round of best shot, followed by a round of alternate shot to decide it all! Go to discgolfscene.com for registration and more details!  Oh, did we mention lunch will be provided as well?!\n\n \nTo register, go to: \nhttps://www.discgolfscene.com/.../4th_Annual_Doubles...\n\n \Location:\nFox Prairie Disc Golf Course\n7542 Golf Course Road\nMcLeansboro, IL 62859
X-ALT-DESC;FMTTYPE=text/html:4th Annual Doubles Disc Golf Tournament Fundraiser<br /><br />05/16/26 07:30 AM CST - 05/16/26 04:00 PM CST<br />Description:<br /><span style="font-family:tahoma,geneva,sans-serif"><span style="font-size:18px"><span style="color:#008000">The Hamilton County Chamber of Commerce along with Fox Prairie Disc Golf Club, are presenting:</span></span></span>
<div style="text-align: center;"><span style="font-family:tahoma,geneva,sans-serif"><span style="font-size:24px"><span style="color:#FF0000">The 4th Annual Doubles Disc Golf Tournament Fundraiser!</span></span></span><br />
&nbsp;</div>
<span style="font-size:14px">The doubles fundraiser is happening once again at Fox Prairie! Choose your partner wisely, then come out and join us for one round of best shot, followed by a round of alternate shot to decide it all! Go to&nbsp;<a attributionsrc="/privacy_sandbox/comet/register/source/?xt=AZYar0VWtmxNUQHMTrexXucQu9rxHzUl8xGZvkW8vqIhHCo7plMZ4O9bwbxWFdir8F3Ms_x0MPewhQhcjfzc12wp1OFdA5vgCZtZvGD1yvZADDXKKQKcKkGcIe5MhLjQ-SdtFxIFKIjanvIqkKf2wL4Lr_FEZMg9uKfH3afMw_KbSqSTgMdDk8lQlIwMMJ9PUXLYpCBsBztomWOgiliO_rxeB7Gwk0RhMNCkYO3tt6a4hDoKiuzUiwEIP7fE-FQF0I5Gt7mBDHXMFusGy6VaLSA0oUbz7z43X4iOg-xMJfAWGw" href="https://l.facebook.com/l.php?u=http%3A%2F%2Fdiscgolfscene.com%2F%3Ffbclid%3DIwZXh0bgNhZW0CMTAAYnJpZBExdHBncUtOc2I3cGQzTzAxWnNydGMGYXBwX2lkEDIyMjAzOTE3ODgyMDA4OTIAAR75BNtxuTWjQZmJ7tuODh2h7ce54uHJxF7n2QKFr7B5joQ42MgkrBHZmmE2kw_aem_8nxSXnWbnTxci6QGf2R9zA&amp;h=AT4sWjqI06_T2XJJq_VOrJtWfSd6LZJgUCSynuq5Jn1HSS7M6prFBYkpDPWhGzWG5fRhN0J4WXfCXtzMRm4QFFkkJxKKZ3ND2yHq6_Vi8XNzqw_uPaXFiiSE95quTofklQoPlfux7H4cXw&amp;__tn__=q&amp;c[0]=AT6nJPegjhsgLWydmycQdK1Hg2Q5Yco3sotU3fIdfGqHFjae_kpZFeEQ2XteDp5ogcbnOdZKY5LlHdwqCCcTXVYPbIF7tQMYlEYBb42NI7ItxxOgWSaEJsRjBHeZ3jep" rel="nofollow" role="link" tabindex="0" target="_blank">discgolfscene.com</a>&nbsp;for registration and more details!&nbsp; Oh, did we mention lunch will be provided as well?!</span>

<div style="text-align: center;">&nbsp;</div>
<span style="font-family:tahoma,geneva,sans-serif">To register, go to:&nbsp;</span><br />
<a attributionsrc="/privacy_sandbox/comet/register/source/?xt=AZYar0VWtmxNUQHMTrexXucQu9rxHzUl8xGZvkW8vqIhHCo7plMZ4O9bwbxWFdir8F3Ms_x0MPewhQhcjfzc12wp1OFdA5vgCZtZvGD1yvZADDXKKQKcKkGcIe5MhLjQ-SdtFxIFKIjanvIqkKf2wL4Lr_FEZMg9uKfH3afMw_KbSqSTgMdDk8lQlIwMMJ9PUXLYpCBsBztomWOgiliO_rxeB7Gwk0RhMNCkYO3tt6a4hDoKiuzUiwEIP7fE-FQF0I5Gt7mBDHXMFusGy6VaLSA0oUbz7z43X4iOg-xMJfAWGw" href="https://l.facebook.com/l.php?u=https%3A%2F%2Fwww.discgolfscene.com%2Ftournament%2F4th_Annual_Doubles_Tournament_Fundraiser_2026%3Ffbclid%3DIwZXh0bgNhZW0CMTAAYnJpZBExdHBncUtOc2I3cGQzTzAxWnNydGMGYXBwX2lkEDIyMjAzOTE3ODgyMDA4OTIAAR5taf8BbBfYDXAt4CMX86peATxYGT6eWv3Lhw9qlCVhkGdxzcmRT7K4Ipswrg_aem_B96uM-Tt496JZ-U-r3MTRg&amp;h=AT5Q8nqn49mfE_7TSWCPVXG8VLwYurwHa44ISk-R_xl4cHmTrV4wLa-1mHCJRBuHQnNXc9TMW1f8cDrNAXF56d8culKgOmbPM8ZBiYiGMkewJN1TkBUfqB2Iw5QGLbTMwVJ8d7D30767xw&amp;__tn__=q&amp;c[0]=AT6nJPegjhsgLWydmycQdK1Hg2Q5Yco3sotU3fIdfGqHFjae_kpZFeEQ2XteDp5ogcbnOdZKY5LlHdwqCCcTXVYPbIF7tQMYlEYBb42NI7ItxxOgWSaEJsRjBHeZ3jep" rel="nofollow" role="link" tabindex="0" target="_blank">https://www.discgolfscene.com/.../4th_Annual_Doubles...</a><br />
<br />
&nbsp;<br />Location:<br />Fox Prairie Disc Golf Course<br />7542 Golf Course Road<br />McLeansboro, IL 62859
PRIORITY:3
TRANSP:TRANSPARENT
BEGIN:VALARM
TRIGGER:-PT5M
ACTION:DISPLAY
DESCRIPTION:Reminder
END:VALARM
END:VEVENT
END:VCALENDAR
