BEGIN:VCALENDAR
VERSION:2.0
CALSCALE:GREGORIAN
METHOD:PUBLISH
PRODID://KACC//1416885
BEGIN:VEVENT
DTSTAMP:20260420T103804
VTIMEZONE:America/Chicago
DTSTART:20260411T133000Z
DTEND:20260411T160000Z
UID:1416885
SUMMARY:ATSU Spring Wellness Run
LOCATION:Thompson Campus Center , 210 South Osteopathy, Kirksville, MO, 63501
DESCRIPTION:ATSU Spring Wellness Run\n\n04/11/26 08:30 AM CST\n - 04/11/26 11:00 AM CST\Description:\nATSU Wellness Run – Move for Your Health, Support Your Community!\nPrioritize your well-being and give back at the ATSU Wellness Run, a fun and energizing event designed to support both your health and the ATSU Student Emergency Fund. Whether you run, jog, or walk, this event is about embracing movement, reducing stress, and building a healthier lifestyle—physically, mentally, and emotionally.\Details:\nDate: April 11th OR sign up for the virtual event and complete your race anytime between April 5th and April 11th! \nTime: 8:30 AM\nLocation: Meeting and ending at the Thompson Campus Center, 210 S. Osteopathy St. Kirksville MO.  \n\nRegular physical activity is essential for long-term wellness, and this event is the perfect opportunity to get active in a supportive and uplifting environment. Feel the benefits of movement, fresh air, and connection with others as you take on this race at your own pace.\n\nWellness Perks for Participants:\nAll in-person participants receive a race T-shirt, enjoy nutritious post-race refreshments, and are entered for exciting door prizes!\nAfter the race, unwind with a rejuvenating soft tissue massage provided by the SAAO Stretch Clinic, helping to promote muscle recovery, relaxation, and overall well-being.\n\n\nVirtual participants will receive a race T-shirt and a finisher’s medal, allowing you to participate from wherever you are while prioritizing your health.\n\nFollow our Facebook page for updates, training tips, and race day details!\nThis is more than just a race—it’s a chance to invest in yourself, reduce stress, boost your energy, and foster community support. Movement is medicine, and whether you're sprinting, jogging, or walking, every step is a step toward better health and resilience.\n\nThank you to our sponsors! \n\nKirksville Hy-Vee\n\nNEMR \n\nKirksville Dental Group \n\nMark Twain Behavioral Health \n\nZach, Stacy, and Craig Phelps \n\Location:\nThompson Campus Center \n210 South Osteopathy\nKirksville, MO 63501
X-ALT-DESC;FMTTYPE=text/html:ATSU Spring Wellness Run<br /><br />04/11/26 08:30 AM CST - 04/11/26 11:00 AM CST<br />Description:<br /><strong>ATSU Wellness Run &ndash; Move for Your Health, Support Your Community!</strong><br />
Prioritize your well-being and give back at the ATSU Wellness Run, a fun and energizing event designed to support both your health and the ATSU Student Emergency Fund. Whether you run, jog, or walk, this event is about embracing movement, reducing stress, and building a healthier lifestyle&mdash;physically, mentally, and emotionally.<br />Details:<br /><p>Date: April 11th&nbsp;<strong>OR&nbsp;</strong>sign up for the virtual event and complete your race anytime between April 5th and April 11th!&nbsp;<br />
Time: 8:30 AM<br />
Location: Meeting and ending at the Thompson Campus Center, 210 S. Osteopathy St. Kirksville MO.&nbsp;&nbsp;</p>

<p>Regular physical activity is essential for long-term wellness, and this event is the perfect opportunity to get active in a supportive and uplifting environment. Feel the benefits of movement, fresh air, and connection with others as you take on this race at your own pace.</p>

<p><strong>Wellness Perks for Participants</strong>:<br />
<strong>All in-person participants</strong>&nbsp;receive a race T-shirt, enjoy nutritious post-race refreshments, and are entered for exciting door prizes!<br />
After the race, unwind with a rejuvenating soft tissue massage provided by the SAAO Stretch Clinic, helping to promote muscle recovery, relaxation, and overall well-being.</p>

<p><br />
<strong>Virtual participants</strong>&nbsp;will receive a race T-shirt and a finisher&rsquo;s medal, allowing you to participate from wherever you are while prioritizing your health.</p>

<p><strong>Follow our Facebook page for updates, training tips, and race day details!</strong><br />
This is more than just a race&mdash;it&rsquo;s a chance to invest in yourself, reduce stress, boost your energy, and foster community support. Movement is medicine, and whether you're sprinting, jogging, or walking, every step is a step toward better health and resilience.</p>

<p><strong>Thank you to our sponsors!&nbsp;</strong></p>

<p>Kirksville Hy-Vee</p>

<p>NEMR&nbsp;</p>

<p>Kirksville Dental Group&nbsp;</p>

<p>Mark Twain Behavioral Health&nbsp;</p>

<p>Zach, Stacy, and Craig Phelps&nbsp;</p>
<br />Location:<br />Thompson Campus Center <br />210 South Osteopathy<br />Kirksville, MO 63501
PRIORITY:3
TRANSP:TRANSPARENT
BEGIN:VALARM
TRIGGER:-PT5M
ACTION:DISPLAY
DESCRIPTION:Reminder
END:VALARM
END:VEVENT
END:VCALENDAR
